BEGIN:VCALENDAR
VERSION:2.0
PRODID:-//abide church - ECPv6.15.20//NONSGML v1.0//EN
CALSCALE:GREGORIAN
METHOD:PUBLISH
X-WR-CALNAME:abide church
X-ORIGINAL-URL:https://abidechurch.org.nz
X-WR-CALDESC:Events for abide church
REFRESH-INTERVAL;VALUE=DURATION:PT1H
X-Robots-Tag:noindex
X-PUBLISHED-TTL:PT1H
BEGIN:VTIMEZONE
TZID:Pacific/Auckland
BEGIN:STANDARD
TZOFFSETFROM:+1300
TZOFFSETTO:+1200
TZNAME:NZST
DTSTART:20240406T140000
END:STANDARD
BEGIN:DAYLIGHT
TZOFFSETFROM:+1200
TZOFFSETTO:+1300
TZNAME:NZDT
DTSTART:20240928T140000
END:DAYLIGHT
BEGIN:STANDARD
TZOFFSETFROM:+1300
TZOFFSETTO:+1200
TZNAME:NZST
DTSTART:20250405T140000
END:STANDARD
BEGIN:DAYLIGHT
TZOFFSETFROM:+1200
TZOFFSETTO:+1300
TZNAME:NZDT
DTSTART:20250927T140000
END:DAYLIGHT
BEGIN:STANDARD
TZOFFSETFROM:+1300
TZOFFSETTO:+1200
TZNAME:NZST
DTSTART:20260404T140000
END:STANDARD
BEGIN:DAYLIGHT
TZOFFSETFROM:+1200
TZOFFSETTO:+1300
TZNAME:NZDT
DTSTART:20260926T140000
END:DAYLIGHT
END:VTIMEZONE
BEGIN:VEVENT
DTSTART;TZID=Pacific/Auckland:20250112T103000
DTEND;TZID=Pacific/Auckland:20250112T120000
DTSTAMP:20260421T215300
CREATED:20250111T192707Z
LAST-MODIFIED:20250111T192707Z
UID:2193-1736677800-1736683200@abidechurch.org.nz
SUMMARY:Combined Service (West Hamilton Community Church 10:30am)
DESCRIPTION:
URL:https://abidechurch.org.nz/event/combined-service-west-hamilton-community-church-1030am/
LOCATION:West Hamilton Community Church\, 27A Rifle Range Road\, Dinsdale\, Hamilton\, New Zealand
END:VEVENT
BEGIN:VEVENT
DTSTART;TZID=Pacific/Auckland:20250119T103000
DTEND;TZID=Pacific/Auckland:20250119T120000
DTSTAMP:20260421T215300
CREATED:20250111T192727Z
LAST-MODIFIED:20250111T192727Z
UID:2195-1737282600-1737288000@abidechurch.org.nz
SUMMARY:Combined Service (West Hamilton Community Church 10:30am)
DESCRIPTION:
URL:https://abidechurch.org.nz/event/combined-service-west-hamilton-community-church-1030am-2/
LOCATION:West Hamilton Community Church\, 27A Rifle Range Road\, Dinsdale\, Hamilton\, New Zealand
END:VEVENT
BEGIN:VEVENT
DTSTART;TZID=Pacific/Auckland:20250126T103000
DTEND;TZID=Pacific/Auckland:20250126T120000
DTSTAMP:20260421T215300
CREATED:20250111T192756Z
LAST-MODIFIED:20250111T192756Z
UID:2197-1737887400-1737892800@abidechurch.org.nz
SUMMARY:Combined Service (West Hamilton Community Church 10:30am)
DESCRIPTION:
URL:https://abidechurch.org.nz/event/combined-service-west-hamilton-community-church-1030am-3/
LOCATION:West Hamilton Community Church\, 27A Rifle Range Road\, Dinsdale\, Hamilton\, New Zealand
END:VEVENT
END:VCALENDAR