BEGIN:VCALENDAR
VERSION:2.0
PRODID:-//abide church - ECPv6.15.20//NONSGML v1.0//EN
CALSCALE:GREGORIAN
METHOD:PUBLISH
X-WR-CALNAME:abide church
X-ORIGINAL-URL:https://abidechurch.org.nz
X-WR-CALDESC:Events for abide church
REFRESH-INTERVAL;VALUE=DURATION:PT1H
X-Robots-Tag:noindex
X-PUBLISHED-TTL:PT1H
BEGIN:VTIMEZONE
TZID:Pacific/Auckland
BEGIN:STANDARD
TZOFFSETFROM:+1300
TZOFFSETTO:+1200
TZNAME:NZST
DTSTART:20230401T140000
END:STANDARD
BEGIN:DAYLIGHT
TZOFFSETFROM:+1200
TZOFFSETTO:+1300
TZNAME:NZDT
DTSTART:20230923T140000
END:DAYLIGHT
BEGIN:STANDARD
TZOFFSETFROM:+1300
TZOFFSETTO:+1200
TZNAME:NZST
DTSTART:20240406T140000
END:STANDARD
BEGIN:DAYLIGHT
TZOFFSETFROM:+1200
TZOFFSETTO:+1300
TZNAME:NZDT
DTSTART:20240928T140000
END:DAYLIGHT
BEGIN:STANDARD
TZOFFSETFROM:+1300
TZOFFSETTO:+1200
TZNAME:NZST
DTSTART:20250405T140000
END:STANDARD
BEGIN:DAYLIGHT
TZOFFSETFROM:+1200
TZOFFSETTO:+1300
TZNAME:NZDT
DTSTART:20250927T140000
END:DAYLIGHT
END:VTIMEZONE
BEGIN:VEVENT
DTSTART;TZID=Pacific/Auckland:20241201T100000
DTEND;TZID=Pacific/Auckland:20241201T120000
DTSTAMP:20260421T232233
CREATED:20241010T083041Z
LAST-MODIFIED:20241010T083041Z
UID:2165-1733047200-1733054400@abidechurch.org.nz
SUMMARY:Introducing God Course - Urge Café
DESCRIPTION:
URL:https://abidechurch.org.nz/event/introducing-god-course-urge-cafe-4/
LOCATION:Urge Café\, 2/371 Victoria Street\, Hamilton\, New Zealand
END:VEVENT
BEGIN:VEVENT
DTSTART;TZID=Pacific/Auckland:20241208T100000
DTEND;TZID=Pacific/Auckland:20241208T120000
DTSTAMP:20260421T232233
CREATED:20241010T083122Z
LAST-MODIFIED:20241010T083122Z
UID:2167-1733652000-1733659200@abidechurch.org.nz
SUMMARY:Introducing God Course - Urge Café
DESCRIPTION:
URL:https://abidechurch.org.nz/event/introducing-god-course-urge-cafe-5/
LOCATION:Urge Café\, 2/371 Victoria Street\, Hamilton\, New Zealand
END:VEVENT
BEGIN:VEVENT
DTSTART;TZID=Pacific/Auckland:20241215T100000
DTEND;TZID=Pacific/Auckland:20241215T120000
DTSTAMP:20260421T232233
CREATED:20241211T075956Z
LAST-MODIFIED:20241211T075956Z
UID:2187-1734256800-1734264000@abidechurch.org.nz
SUMMARY:Sunday Morning Service (Bridge Club 10am)
DESCRIPTION:
URL:https://abidechurch.org.nz/event/sunday-morning-service-bridge-club-10am-119/
LOCATION:Hamilton Bridge Club\, 20 Richmond Street\, Whitiora\, Hamilton\, New Zealand
END:VEVENT
BEGIN:VEVENT
DTSTART;TZID=Pacific/Auckland:20241222T100000
DTEND;TZID=Pacific/Auckland:20241222T120000
DTSTAMP:20260421T232233
CREATED:20241211T080055Z
LAST-MODIFIED:20241211T080055Z
UID:2189-1734861600-1734868800@abidechurch.org.nz
SUMMARY:Sunday Morning Service (Bridge Club 10am) KIDS PLAY + HAM & BUNS + GAMES
DESCRIPTION:Join us for our family service with the abide kids play\, followed by ham & buns\, ice cream and games.
URL:https://abidechurch.org.nz/event/sunday-morning-service-bridge-club-10am-kids-play-ham-buns-games/
LOCATION:Hamilton Bridge Club\, 20 Richmond Street\, Whitiora\, Hamilton\, New Zealand
END:VEVENT
END:VCALENDAR