BEGIN:VCALENDAR
VERSION:2.0
PRODID:-//abide church - ECPv6.15.20//NONSGML v1.0//EN
CALSCALE:GREGORIAN
METHOD:PUBLISH
X-ORIGINAL-URL:https://abidechurch.org.nz
X-WR-CALDESC:Events for abide church
REFRESH-INTERVAL;VALUE=DURATION:PT1H
X-Robots-Tag:noindex
X-PUBLISHED-TTL:PT1H
BEGIN:VTIMEZONE
TZID:Pacific/Auckland
BEGIN:STANDARD
TZOFFSETFROM:+1300
TZOFFSETTO:+1200
TZNAME:NZST
DTSTART:20230401T140000
END:STANDARD
BEGIN:DAYLIGHT
TZOFFSETFROM:+1200
TZOFFSETTO:+1300
TZNAME:NZDT
DTSTART:20230923T140000
END:DAYLIGHT
BEGIN:STANDARD
TZOFFSETFROM:+1300
TZOFFSETTO:+1200
TZNAME:NZST
DTSTART:20240406T140000
END:STANDARD
BEGIN:DAYLIGHT
TZOFFSETFROM:+1200
TZOFFSETTO:+1300
TZNAME:NZDT
DTSTART:20240928T140000
END:DAYLIGHT
BEGIN:STANDARD
TZOFFSETFROM:+1300
TZOFFSETTO:+1200
TZNAME:NZST
DTSTART:20250405T140000
END:STANDARD
BEGIN:DAYLIGHT
TZOFFSETFROM:+1200
TZOFFSETTO:+1300
TZNAME:NZDT
DTSTART:20250927T140000
END:DAYLIGHT
END:VTIMEZONE
BEGIN:VEVENT
DTSTART;TZID=Pacific/Auckland:20241103T100000
DTEND;TZID=Pacific/Auckland:20241103T120000
DTSTAMP:20260422T010859
CREATED:20241010T074448Z
LAST-MODIFIED:20241010T074531Z
UID:2155-1730628000-1730635200@abidechurch.org.nz
SUMMARY:Introducing God Course - Urge Café
DESCRIPTION:
URL:https://abidechurch.org.nz/event/introducing-god-course/
LOCATION:Urge Café\, 2/371 Victoria Street\, Hamilton\, New Zealand
END:VEVENT
BEGIN:VEVENT
DTSTART;TZID=Pacific/Auckland:20241110T100000
DTEND;TZID=Pacific/Auckland:20241110T120000
DTSTAMP:20260422T010859
CREATED:20241010T080806Z
LAST-MODIFIED:20241010T080806Z
UID:2159-1731232800-1731240000@abidechurch.org.nz
SUMMARY:Introducing God Course - Urge Café
DESCRIPTION:
URL:https://abidechurch.org.nz/event/introducing-god-course-urge-cafe/
LOCATION:Urge Café\, 2/371 Victoria Street\, Hamilton\, New Zealand
END:VEVENT
BEGIN:VEVENT
DTSTART;TZID=Pacific/Auckland:20241117T100000
DTEND;TZID=Pacific/Auckland:20241117T120000
DTSTAMP:20260422T010859
CREATED:20241010T080830Z
LAST-MODIFIED:20241112T082845Z
UID:2161-1731837600-1731844800@abidechurch.org.nz
SUMMARY:Introducing God Course - Te Oahu
DESCRIPTION:Join us for part 3 of the introducing God course. This time we will be meeting at John & Louise’s place in Te Pahu\, followed by a pot luck lunch.
URL:https://abidechurch.org.nz/event/introducing-god-course-urge-cafe-2/
LOCATION:John & Louise Mazengarb’s Place (Te Pahu)
END:VEVENT
BEGIN:VEVENT
DTSTART;TZID=Pacific/Auckland:20241124T100000
DTEND;TZID=Pacific/Auckland:20241124T120000
DTSTAMP:20260422T010859
CREATED:20241010T081007Z
LAST-MODIFIED:20241010T081007Z
UID:2163-1732442400-1732449600@abidechurch.org.nz
SUMMARY:Introducing God Course - Urge Café
DESCRIPTION:
URL:https://abidechurch.org.nz/event/introducing-god-course-urge-cafe-3/
LOCATION:Urge Café\, 2/371 Victoria Street\, Hamilton\, New Zealand
END:VEVENT
END:VCALENDAR