BEGIN:VCALENDAR
VERSION:2.0
PRODID:-//abide church - ECPv6.15.20//NONSGML v1.0//EN
CALSCALE:GREGORIAN
METHOD:PUBLISH
X-WR-CALNAME:abide church
X-ORIGINAL-URL:https://abidechurch.org.nz
X-WR-CALDESC:Events for abide church
REFRESH-INTERVAL;VALUE=DURATION:PT1H
X-Robots-Tag:noindex
X-PUBLISHED-TTL:PT1H
BEGIN:VTIMEZONE
TZID:Pacific/Auckland
BEGIN:STANDARD
TZOFFSETFROM:+1300
TZOFFSETTO:+1200
TZNAME:NZST
DTSTART:20230401T140000
END:STANDARD
BEGIN:DAYLIGHT
TZOFFSETFROM:+1200
TZOFFSETTO:+1300
TZNAME:NZDT
DTSTART:20230923T140000
END:DAYLIGHT
BEGIN:STANDARD
TZOFFSETFROM:+1300
TZOFFSETTO:+1200
TZNAME:NZST
DTSTART:20240406T140000
END:STANDARD
BEGIN:DAYLIGHT
TZOFFSETFROM:+1200
TZOFFSETTO:+1300
TZNAME:NZDT
DTSTART:20240928T140000
END:DAYLIGHT
BEGIN:STANDARD
TZOFFSETFROM:+1300
TZOFFSETTO:+1200
TZNAME:NZST
DTSTART:20250405T140000
END:STANDARD
BEGIN:DAYLIGHT
TZOFFSETFROM:+1200
TZOFFSETTO:+1300
TZNAME:NZDT
DTSTART:20250927T140000
END:DAYLIGHT
END:VTIMEZONE
BEGIN:VEVENT
DTSTART;TZID=Pacific/Auckland:20240707T100000
DTEND;TZID=Pacific/Auckland:20240707T120000
DTSTAMP:20260422T074314
CREATED:20240629T035107Z
LAST-MODIFIED:20240629T035107Z
UID:2083-1720346400-1720353600@abidechurch.org.nz
SUMMARY:Joint service with West Hamilton Community Church
DESCRIPTION:MEETING OFFSITE – joint service with West Hamilton Community Church\, 27a Rifle Range Rd\, Frankton.
URL:https://abidechurch.org.nz/event/joint-service-with-west-hamilton-community-church/
LOCATION:West Hamilton Community Church\, 27A Rifle Range Road\, Dinsdale\, Hamilton\, New Zealand
END:VEVENT
BEGIN:VEVENT
DTSTART;TZID=Pacific/Auckland:20240714T100000
DTEND;TZID=Pacific/Auckland:20240714T120000
DTSTAMP:20260422T074314
CREATED:20240629T035138Z
LAST-MODIFIED:20240629T035138Z
UID:2085-1720951200-1720958400@abidechurch.org.nz
SUMMARY:Sunday Morning Service (Bridge Club 10am)
DESCRIPTION:
URL:https://abidechurch.org.nz/event/sunday-morning-service-bridge-club-10am-111/
LOCATION:Hamilton Bridge Club\, 20 Richmond Street\, Whitiora\, Hamilton\, New Zealand
END:VEVENT
BEGIN:VEVENT
DTSTART;TZID=Pacific/Auckland:20240721T100000
DTEND;TZID=Pacific/Auckland:20240721T120000
DTSTAMP:20260422T074314
CREATED:20240629T035222Z
LAST-MODIFIED:20240629T035222Z
UID:2087-1721556000-1721563200@abidechurch.org.nz
SUMMARY:Sunday Morning Service (Bridge Club 10am)
DESCRIPTION:PIZZA SUNDAY
URL:https://abidechurch.org.nz/event/sunday-morning-service-bridge-club-10am-112/
LOCATION:Hamilton Bridge Club\, 20 Richmond Street\, Whitiora\, Hamilton\, New Zealand
END:VEVENT
BEGIN:VEVENT
DTSTART;TZID=Pacific/Auckland:20240728T100000
DTEND;TZID=Pacific/Auckland:20240728T120000
DTSTAMP:20260422T074314
CREATED:20240629T035244Z
LAST-MODIFIED:20240629T035244Z
UID:2090-1722160800-1722168000@abidechurch.org.nz
SUMMARY:Sunday Morning Service (Bridge Club 10am)
DESCRIPTION:
URL:https://abidechurch.org.nz/event/sunday-morning-service-bridge-club-10am-113/
LOCATION:Hamilton Bridge Club\, 20 Richmond Street\, Whitiora\, Hamilton\, New Zealand
END:VEVENT
END:VCALENDAR