BEGIN:VCALENDAR
VERSION:2.0
PRODID:-//abide church - ECPv6.15.20//NONSGML v1.0//EN
CALSCALE:GREGORIAN
METHOD:PUBLISH
X-ORIGINAL-URL:https://abidechurch.org.nz
X-WR-CALDESC:Events for abide church
REFRESH-INTERVAL;VALUE=DURATION:PT1H
X-Robots-Tag:noindex
X-PUBLISHED-TTL:PT1H
BEGIN:VTIMEZONE
TZID:Pacific/Auckland
BEGIN:STANDARD
TZOFFSETFROM:+1300
TZOFFSETTO:+1200
TZNAME:NZST
DTSTART:20220402T140000
END:STANDARD
BEGIN:DAYLIGHT
TZOFFSETFROM:+1200
TZOFFSETTO:+1300
TZNAME:NZDT
DTSTART:20220924T140000
END:DAYLIGHT
BEGIN:STANDARD
TZOFFSETFROM:+1300
TZOFFSETTO:+1200
TZNAME:NZST
DTSTART:20230401T140000
END:STANDARD
BEGIN:DAYLIGHT
TZOFFSETFROM:+1200
TZOFFSETTO:+1300
TZNAME:NZDT
DTSTART:20230923T140000
END:DAYLIGHT
BEGIN:STANDARD
TZOFFSETFROM:+1300
TZOFFSETTO:+1200
TZNAME:NZST
DTSTART:20240406T140000
END:STANDARD
BEGIN:DAYLIGHT
TZOFFSETFROM:+1200
TZOFFSETTO:+1300
TZNAME:NZDT
DTSTART:20240928T140000
END:DAYLIGHT
END:VTIMEZONE
BEGIN:VEVENT
DTSTART;TZID=Pacific/Auckland:20230702T100000
DTEND;TZID=Pacific/Auckland:20230702T120000
DTSTAMP:20260423T035433
CREATED:20230622T031458Z
LAST-MODIFIED:20230622T031458Z
UID:1689-1688292000-1688299200@abidechurch.org.nz
SUMMARY:Sunday Morning Service (Bridge Club 10am)
DESCRIPTION:
URL:https://abidechurch.org.nz/event/sunday-morning-service-bridge-club-10am-80/
LOCATION:Hamilton Bridge Club\, 20 Richmond Street\, Whitiora\, Hamilton\, New Zealand
END:VEVENT
BEGIN:VEVENT
DTSTART;TZID=Pacific/Auckland:20230709T100000
DTEND;TZID=Pacific/Auckland:20230709T120000
DTSTAMP:20260423T035433
CREATED:20230622T031515Z
LAST-MODIFIED:20230622T031515Z
UID:1691-1688896800-1688904000@abidechurch.org.nz
SUMMARY:Sunday Morning Service (Bridge Club 10am)
DESCRIPTION:
URL:https://abidechurch.org.nz/event/sunday-morning-service-bridge-club-10am-81/
LOCATION:Hamilton Bridge Club\, 20 Richmond Street\, Whitiora\, Hamilton\, New Zealand
END:VEVENT
BEGIN:VEVENT
DTSTART;TZID=Pacific/Auckland:20230716T100000
DTEND;TZID=Pacific/Auckland:20230716T120000
DTSTAMP:20260423T035433
CREATED:20230622T031533Z
LAST-MODIFIED:20230622T031533Z
UID:1693-1689501600-1689508800@abidechurch.org.nz
SUMMARY:Sunday Morning Service (Bridge Club 10am)
DESCRIPTION:
URL:https://abidechurch.org.nz/event/sunday-morning-service-bridge-club-10am-82/
LOCATION:Hamilton Bridge Club\, 20 Richmond Street\, Whitiora\, Hamilton\, New Zealand
END:VEVENT
BEGIN:VEVENT
DTSTART;TZID=Pacific/Auckland:20230723T100000
DTEND;TZID=Pacific/Auckland:20230723T120000
DTSTAMP:20260423T035433
CREATED:20230622T031556Z
LAST-MODIFIED:20230622T031556Z
UID:1695-1690106400-1690113600@abidechurch.org.nz
SUMMARY:Sunday Morning Service (Bridge Club 10am)
DESCRIPTION:
URL:https://abidechurch.org.nz/event/sunday-morning-service-bridge-club-10am-83/
LOCATION:Hamilton Bridge Club\, 20 Richmond Street\, Whitiora\, Hamilton\, New Zealand
END:VEVENT
BEGIN:VEVENT
DTSTART;TZID=Pacific/Auckland:20230730T120000
DTEND;TZID=Pacific/Auckland:20230730T140000
DTSTAMP:20260423T035433
CREATED:20230622T031721Z
LAST-MODIFIED:20230622T031721Z
UID:1697-1690718400-1690725600@abidechurch.org.nz
SUMMARY:Fellowship Event  - Guess Who’s Coming to Lunch
DESCRIPTION:This fun event is being organised for fellowship Sunday which is on 30th July. \nWe hosted a similar event a couple of years ago as a dinner instead of a lunch\, it was greatly enjoyed by those who attended. Be encouraged to join in the fun. \nYou may want to be a HOST or maybe you’d rather be a GUEST…. either way this event is a great opportunity for fun and fellowship. \nAll the details about this event are on the sign up form on the Welcome table….. please take some time to read / complete this form. \nRSVP to rose@abidechurch.org.nz by Sunday 23rd July.
URL:https://abidechurch.org.nz/event/fellowship-event-guess-whos-coming-to-lunch/
END:VEVENT
END:VCALENDAR