BEGIN:VCALENDAR
VERSION:2.0
PRODID:-//abide church - ECPv6.15.20//NONSGML v1.0//EN
CALSCALE:GREGORIAN
METHOD:PUBLISH
X-ORIGINAL-URL:https://abidechurch.org.nz
X-WR-CALDESC:Events for abide church
REFRESH-INTERVAL;VALUE=DURATION:PT1H
X-Robots-Tag:noindex
X-PUBLISHED-TTL:PT1H
BEGIN:VTIMEZONE
TZID:Pacific/Auckland
BEGIN:STANDARD
TZOFFSETFROM:+1300
TZOFFSETTO:+1200
TZNAME:NZST
DTSTART:20220402T140000
END:STANDARD
BEGIN:DAYLIGHT
TZOFFSETFROM:+1200
TZOFFSETTO:+1300
TZNAME:NZDT
DTSTART:20220924T140000
END:DAYLIGHT
BEGIN:STANDARD
TZOFFSETFROM:+1300
TZOFFSETTO:+1200
TZNAME:NZST
DTSTART:20230401T140000
END:STANDARD
BEGIN:DAYLIGHT
TZOFFSETFROM:+1200
TZOFFSETTO:+1300
TZNAME:NZDT
DTSTART:20230923T140000
END:DAYLIGHT
BEGIN:STANDARD
TZOFFSETFROM:+1300
TZOFFSETTO:+1200
TZNAME:NZST
DTSTART:20240406T140000
END:STANDARD
BEGIN:DAYLIGHT
TZOFFSETFROM:+1200
TZOFFSETTO:+1300
TZNAME:NZDT
DTSTART:20240928T140000
END:DAYLIGHT
END:VTIMEZONE
BEGIN:VEVENT
DTSTART;TZID=Pacific/Auckland:20230402T103000
DTEND;TZID=Pacific/Auckland:20230402T130000
DTSTAMP:20260423T085935
CREATED:20230316T022422Z
LAST-MODIFIED:20230316T023426Z
UID:1617-1680431400-1680440400@abidechurch.org.nz
SUMMARY:Passover Lunch / Farm Church (Te Pahu 10:30am)
DESCRIPTION:Join us for an informal Passover teaching / lunch on Sunday the 2nd April at Graham & Sarah’s place in Te Pahu (get in touch if you don’t know the address)\nExperience the incredible symbolism of this ancient feast that has been celebrated for thousands of years\, and how it all points to Jesus.\n\nThis will be a more relaxed take on a traditional passover meal. Kids welcome and invite your friends\, there will be plenty of time to hang out\, eat lamb cooked over an open fire and various interactive food related activities.\n\nPlease RSVP by 29th March so we can confirm numbers for food/seating.
URL:https://abidechurch.org.nz/event/passover-lunch-farm-church-te-pahu-1030am/
LOCATION:Graham & Sarah Corbans\, Graham & Sarah Corbans Place\, Te Pahu\, New Zealand
END:VEVENT
BEGIN:VEVENT
DTSTART;TZID=Pacific/Auckland:20230409T100000
DTEND;TZID=Pacific/Auckland:20230409T120000
DTSTAMP:20260423T085935
CREATED:20230316T022725Z
LAST-MODIFIED:20230316T022725Z
UID:1619-1681034400-1681041600@abidechurch.org.nz
SUMMARY:Sunday Morning Service (Bridge Club 10am)
DESCRIPTION:
URL:https://abidechurch.org.nz/event/sunday-morning-service-bridge-club-10am-70/
LOCATION:Hamilton Bridge Club\, 20 Richmond Street\, Whitiora\, Hamilton\, New Zealand
END:VEVENT
BEGIN:VEVENT
DTSTART;TZID=Pacific/Auckland:20230416T100000
DTEND;TZID=Pacific/Auckland:20230416T120000
DTSTAMP:20260423T085935
CREATED:20230316T022803Z
LAST-MODIFIED:20230316T022803Z
UID:1621-1681639200-1681646400@abidechurch.org.nz
SUMMARY:Sunday Morning Service (Bridge Club 10am)
DESCRIPTION:
URL:https://abidechurch.org.nz/event/sunday-morning-service-bridge-club-10am-71/
LOCATION:Hamilton Bridge Club\, 20 Richmond Street\, Whitiora\, Hamilton\, New Zealand
END:VEVENT
BEGIN:VEVENT
DTSTART;TZID=Pacific/Auckland:20230423T100000
DTEND;TZID=Pacific/Auckland:20230423T120000
DTSTAMP:20260423T085935
CREATED:20230316T023005Z
LAST-MODIFIED:20230316T023005Z
UID:1625-1682244000-1682251200@abidechurch.org.nz
SUMMARY:Sunday Morning Service (Bridge Club 10am)
DESCRIPTION:
URL:https://abidechurch.org.nz/event/sunday-morning-service-bridge-club-10am-73/
LOCATION:Hamilton Bridge Club\, 20 Richmond Street\, Whitiora\, Hamilton\, New Zealand
END:VEVENT
BEGIN:VEVENT
DTSTART;TZID=Pacific/Auckland:20230430T100000
DTEND;TZID=Pacific/Auckland:20230430T120000
DTSTAMP:20260423T085935
CREATED:20230316T022831Z
LAST-MODIFIED:20230316T022831Z
UID:1623-1682848800-1682856000@abidechurch.org.nz
SUMMARY:Sunday Morning Service (Bridge Club 10am)
DESCRIPTION:
URL:https://abidechurch.org.nz/event/sunday-morning-service-bridge-club-10am-72/
LOCATION:Hamilton Bridge Club\, 20 Richmond Street\, Whitiora\, Hamilton\, New Zealand
END:VEVENT
END:VCALENDAR