BEGIN:VCALENDAR
VERSION:2.0
PRODID:-//abide church - ECPv6.15.20//NONSGML v1.0//EN
CALSCALE:GREGORIAN
METHOD:PUBLISH
X-WR-CALNAME:abide church
X-ORIGINAL-URL:https://abidechurch.org.nz
X-WR-CALDESC:Events for abide church
REFRESH-INTERVAL;VALUE=DURATION:PT1H
X-Robots-Tag:noindex
X-PUBLISHED-TTL:PT1H
BEGIN:VTIMEZONE
TZID:Pacific/Auckland
BEGIN:STANDARD
TZOFFSETFROM:+1300
TZOFFSETTO:+1200
TZNAME:NZST
DTSTART:20210403T140000
END:STANDARD
BEGIN:DAYLIGHT
TZOFFSETFROM:+1200
TZOFFSETTO:+1300
TZNAME:NZDT
DTSTART:20210925T140000
END:DAYLIGHT
BEGIN:STANDARD
TZOFFSETFROM:+1300
TZOFFSETTO:+1200
TZNAME:NZST
DTSTART:20220402T140000
END:STANDARD
BEGIN:DAYLIGHT
TZOFFSETFROM:+1200
TZOFFSETTO:+1300
TZNAME:NZDT
DTSTART:20220924T140000
END:DAYLIGHT
BEGIN:STANDARD
TZOFFSETFROM:+1300
TZOFFSETTO:+1200
TZNAME:NZST
DTSTART:20230401T140000
END:STANDARD
BEGIN:DAYLIGHT
TZOFFSETFROM:+1200
TZOFFSETTO:+1300
TZNAME:NZDT
DTSTART:20230923T140000
END:DAYLIGHT
END:VTIMEZONE
BEGIN:VEVENT
DTSTART;TZID=Pacific/Auckland:20221113T100000
DTEND;TZID=Pacific/Auckland:20221113T120000
DTSTAMP:20260423T170858
CREATED:20221110T030931Z
LAST-MODIFIED:20221110T030931Z
UID:1501-1668333600-1668340800@abidechurch.org.nz
SUMMARY:Sunday Morning Service (Bridge Club 10am)
DESCRIPTION:
URL:https://abidechurch.org.nz/event/sunday-morning-service-bridge-club-10am-60/
LOCATION:Hamilton Bridge Club\, 20 Richmond Street\, Whitiora\, Hamilton\, New Zealand
END:VEVENT
BEGIN:VEVENT
DTSTART;TZID=Pacific/Auckland:20221120T100000
DTEND;TZID=Pacific/Auckland:20221120T120000
DTSTAMP:20260423T170858
CREATED:20221110T030959Z
LAST-MODIFIED:20221110T031004Z
UID:1503-1668938400-1668945600@abidechurch.org.nz
SUMMARY:Fellowship Sunday
DESCRIPTION:Meeting off site today
URL:https://abidechurch.org.nz/event/fellowship-sunday-6/
END:VEVENT
BEGIN:VEVENT
DTSTART;TZID=Pacific/Auckland:20221127T100000
DTEND;TZID=Pacific/Auckland:20221127T120000
DTSTAMP:20260423T170858
CREATED:20221110T031050Z
LAST-MODIFIED:20221110T031050Z
UID:1505-1669543200-1669550400@abidechurch.org.nz
SUMMARY:Farm Church (Te Pahu 10:30am)
DESCRIPTION:we will be meeting offsite for FARM Church \n10:30am [a little later than our usual start time] \nAt Graham and Sarah’s home in Te Pahu.  email ofice@abidechurch.org.nz if you don’t know the address.
URL:https://abidechurch.org.nz/event/farm-church-te-pahu-1030am/
LOCATION:Graham & Sarah Corbans\, Graham & Sarah Corbans Place\, Te Pahu\, New Zealand
END:VEVENT
END:VCALENDAR