BEGIN:VCALENDAR
VERSION:2.0
PRODID:-//abide church - ECPv6.15.20//NONSGML v1.0//EN
CALSCALE:GREGORIAN
METHOD:PUBLISH
X-ORIGINAL-URL:https://abidechurch.org.nz
X-WR-CALDESC:Events for abide church
REFRESH-INTERVAL;VALUE=DURATION:PT1H
X-Robots-Tag:noindex
X-PUBLISHED-TTL:PT1H
BEGIN:VTIMEZONE
TZID:Pacific/Auckland
BEGIN:STANDARD
TZOFFSETFROM:+1300
TZOFFSETTO:+1200
TZNAME:NZST
DTSTART:20210403T140000
END:STANDARD
BEGIN:DAYLIGHT
TZOFFSETFROM:+1200
TZOFFSETTO:+1300
TZNAME:NZDT
DTSTART:20210925T140000
END:DAYLIGHT
BEGIN:STANDARD
TZOFFSETFROM:+1300
TZOFFSETTO:+1200
TZNAME:NZST
DTSTART:20220402T140000
END:STANDARD
BEGIN:DAYLIGHT
TZOFFSETFROM:+1200
TZOFFSETTO:+1300
TZNAME:NZDT
DTSTART:20220924T140000
END:DAYLIGHT
BEGIN:STANDARD
TZOFFSETFROM:+1300
TZOFFSETTO:+1200
TZNAME:NZST
DTSTART:20230401T140000
END:STANDARD
BEGIN:DAYLIGHT
TZOFFSETFROM:+1200
TZOFFSETTO:+1300
TZNAME:NZDT
DTSTART:20230923T140000
END:DAYLIGHT
END:VTIMEZONE
BEGIN:VEVENT
DTSTART;TZID=Pacific/Auckland:20221002T100000
DTEND;TZID=Pacific/Auckland:20221002T120000
DTSTAMP:20260423T184133
CREATED:20220922T040643Z
LAST-MODIFIED:20220922T040643Z
UID:1422-1664704800-1664712000@abidechurch.org.nz
SUMMARY:Sunday Morning Service (Bridge Club 10am)
DESCRIPTION:
URL:https://abidechurch.org.nz/event/sunday-morning-service-bridge-club-10am-56/
LOCATION:Hamilton Bridge Club\, 20 Richmond Street\, Whitiora\, Hamilton\, New Zealand
END:VEVENT
BEGIN:VEVENT
DTSTART;TZID=Pacific/Auckland:20221009T100000
DTEND;TZID=Pacific/Auckland:20221009T120000
DTSTAMP:20260423T184133
CREATED:20220922T040704Z
LAST-MODIFIED:20220922T040704Z
UID:1424-1665309600-1665316800@abidechurch.org.nz
SUMMARY:Sunday Morning Service (Bridge Club 10am)
DESCRIPTION:
URL:https://abidechurch.org.nz/event/sunday-morning-service-bridge-club-10am-57/
LOCATION:Hamilton Bridge Club\, 20 Richmond Street\, Whitiora\, Hamilton\, New Zealand
END:VEVENT
BEGIN:VEVENT
DTSTART;TZID=Pacific/Auckland:20221016T100000
DTEND;TZID=Pacific/Auckland:20221016T120000
DTSTAMP:20260423T184133
CREATED:20220922T040736Z
LAST-MODIFIED:20220922T040736Z
UID:1426-1665914400-1665921600@abidechurch.org.nz
SUMMARY:Sunday Morning Service (Bridge Club 10am)
DESCRIPTION:‘State of the Nation’ – Presentation to Abide family of new strategy for sustainability and growth. \n 
URL:https://abidechurch.org.nz/event/sunday-morning-service-bridge-club-10am-58/
LOCATION:Hamilton Bridge Club\, 20 Richmond Street\, Whitiora\, Hamilton\, New Zealand
END:VEVENT
BEGIN:VEVENT
DTSTART;TZID=Pacific/Auckland:20221023T100000
DTEND;TZID=Pacific/Auckland:20221023T120000
DTSTAMP:20260423T184133
CREATED:20220922T040828Z
LAST-MODIFIED:20220922T040844Z
UID:1430-1666519200-1666526400@abidechurch.org.nz
SUMMARY:Fellowship Sunday
DESCRIPTION:Meeting off-site this week for FELLOWSHIP Sunday
URL:https://abidechurch.org.nz/event/fellowship-sunday-5/
END:VEVENT
BEGIN:VEVENT
DTSTART;TZID=Pacific/Auckland:20221030T100000
DTEND;TZID=Pacific/Auckland:20221030T120000
DTSTAMP:20260423T184133
CREATED:20220922T040756Z
LAST-MODIFIED:20220922T040756Z
UID:1428-1667124000-1667131200@abidechurch.org.nz
SUMMARY:Sunday Morning Service (Bridge Club 10am)
DESCRIPTION:
URL:https://abidechurch.org.nz/event/sunday-morning-service-bridge-club-10am-59/
LOCATION:Hamilton Bridge Club\, 20 Richmond Street\, Whitiora\, Hamilton\, New Zealand
END:VEVENT
END:VCALENDAR