BEGIN:VCALENDAR
VERSION:2.0
PRODID:-//abide church - ECPv6.15.20//NONSGML v1.0//EN
CALSCALE:GREGORIAN
METHOD:PUBLISH
X-ORIGINAL-URL:https://abidechurch.org.nz
X-WR-CALDESC:Events for abide church
REFRESH-INTERVAL;VALUE=DURATION:PT1H
X-Robots-Tag:noindex
X-PUBLISHED-TTL:PT1H
BEGIN:VTIMEZONE
TZID:Pacific/Auckland
BEGIN:STANDARD
TZOFFSETFROM:+1300
TZOFFSETTO:+1200
TZNAME:NZST
DTSTART:20210403T140000
END:STANDARD
BEGIN:DAYLIGHT
TZOFFSETFROM:+1200
TZOFFSETTO:+1300
TZNAME:NZDT
DTSTART:20210925T140000
END:DAYLIGHT
BEGIN:STANDARD
TZOFFSETFROM:+1300
TZOFFSETTO:+1200
TZNAME:NZST
DTSTART:20220402T140000
END:STANDARD
BEGIN:DAYLIGHT
TZOFFSETFROM:+1200
TZOFFSETTO:+1300
TZNAME:NZDT
DTSTART:20220924T140000
END:DAYLIGHT
BEGIN:STANDARD
TZOFFSETFROM:+1300
TZOFFSETTO:+1200
TZNAME:NZST
DTSTART:20230401T140000
END:STANDARD
BEGIN:DAYLIGHT
TZOFFSETFROM:+1200
TZOFFSETTO:+1300
TZNAME:NZDT
DTSTART:20230923T140000
END:DAYLIGHT
END:VTIMEZONE
BEGIN:VEVENT
DTSTART;TZID=Pacific/Auckland:20220904T100000
DTEND;TZID=Pacific/Auckland:20220904T120000
DTSTAMP:20260423T202116
CREATED:20220802T002325Z
LAST-MODIFIED:20220901T051312Z
UID:1378-1662285600-1662292800@abidechurch.org.nz
SUMMARY:Sunday Morning Service (Bridge Club 10am)
DESCRIPTION:We have guest speakers Tim and Nicky Cleary. \nNicky ran the Parenting Course that was held this week at WHCC.
URL:https://abidechurch.org.nz/event/sunday-morning-service-bridge-club-10am-53/
LOCATION:Hamilton Bridge Club\, 20 Richmond Street\, Whitiora\, Hamilton\, New Zealand
END:VEVENT
BEGIN:VEVENT
DTSTART;TZID=Pacific/Auckland:20220911T103000
DTEND;TZID=Pacific/Auckland:20220911T120000
DTSTAMP:20260423T202116
CREATED:20220901T051459Z
LAST-MODIFIED:20220901T051459Z
UID:1407-1662892200-1662897600@abidechurch.org.nz
SUMMARY:Farm Church / Pot Luck Lunch (Te Pahu 10:30am)
DESCRIPTION:the Bridge Club is not available this week\, we will be meeting offsite for FARM Church \n10:30am [a little later than our usual start time] \nAt Graham and Sarah’s home in Te Pahu.  email ofice@abidechurch.org.nz if you don’t know the address.
URL:https://abidechurch.org.nz/event/farm-church-pot-luck-lunch-te-pahu-1030am/
LOCATION:Graham & Sarah Corbans\, Graham & Sarah Corbans Place\, Te Pahu\, New Zealand
END:VEVENT
BEGIN:VEVENT
DTSTART;TZID=Pacific/Auckland:20220918T080000
DTEND;TZID=Pacific/Auckland:20220918T120000
DTSTAMP:20260423T202116
CREATED:20220901T051523Z
LAST-MODIFIED:20220901T051523Z
UID:1409-1663488000-1663502400@abidechurch.org.nz
SUMMARY:Sunday Morning Service (Bridge Club 10am)
DESCRIPTION:
URL:https://abidechurch.org.nz/event/sunday-morning-service-bridge-club-10am-54/
LOCATION:Hamilton Bridge Club\, 20 Richmond Street\, Whitiora\, Hamilton\, New Zealand
END:VEVENT
BEGIN:VEVENT
DTSTART;TZID=Pacific/Auckland:20220925T100000
DTEND;TZID=Pacific/Auckland:20220925T120000
DTSTAMP:20260423T202116
CREATED:20220901T051542Z
LAST-MODIFIED:20220901T051542Z
UID:1411-1664100000-1664107200@abidechurch.org.nz
SUMMARY:Sunday Morning Service (Bridge Club 10am)
DESCRIPTION:
URL:https://abidechurch.org.nz/event/sunday-morning-service-bridge-club-10am-55/
LOCATION:Hamilton Bridge Club\, 20 Richmond Street\, Whitiora\, Hamilton\, New Zealand
END:VEVENT
END:VCALENDAR