BEGIN:VCALENDAR
VERSION:2.0
PRODID:-//abide church - ECPv6.15.20//NONSGML v1.0//EN
CALSCALE:GREGORIAN
METHOD:PUBLISH
X-ORIGINAL-URL:https://abidechurch.org.nz
X-WR-CALDESC:Events for abide church
REFRESH-INTERVAL;VALUE=DURATION:PT1H
X-Robots-Tag:noindex
X-PUBLISHED-TTL:PT1H
BEGIN:VTIMEZONE
TZID:Pacific/Auckland
BEGIN:STANDARD
TZOFFSETFROM:+1300
TZOFFSETTO:+1200
TZNAME:NZST
DTSTART:20200404T140000
END:STANDARD
BEGIN:DAYLIGHT
TZOFFSETFROM:+1200
TZOFFSETTO:+1300
TZNAME:NZDT
DTSTART:20200926T140000
END:DAYLIGHT
BEGIN:STANDARD
TZOFFSETFROM:+1300
TZOFFSETTO:+1200
TZNAME:NZST
DTSTART:20210403T140000
END:STANDARD
BEGIN:DAYLIGHT
TZOFFSETFROM:+1200
TZOFFSETTO:+1300
TZNAME:NZDT
DTSTART:20210925T140000
END:DAYLIGHT
BEGIN:STANDARD
TZOFFSETFROM:+1300
TZOFFSETTO:+1200
TZNAME:NZST
DTSTART:20220402T140000
END:STANDARD
BEGIN:DAYLIGHT
TZOFFSETFROM:+1200
TZOFFSETTO:+1300
TZNAME:NZDT
DTSTART:20220924T140000
END:DAYLIGHT
END:VTIMEZONE
BEGIN:VEVENT
DTSTART;TZID=Pacific/Auckland:20211126T193000
DTEND;TZID=Pacific/Auckland:20211126T203000
DTSTAMP:20260424T121331
CREATED:20210815T201158Z
LAST-MODIFIED:20211018T094217Z
UID:1050-1637955000-1637958600@abidechurch.org.nz
SUMMARY:Sarah's Ordination Service
DESCRIPTION:
URL:https://abidechurch.org.nz/event/sarahs-ordination-service-2/
LOCATION:West Hamilton Community Church\, 27A Rifle Range Road\, Dinsdale\, Hamilton\, New Zealand
END:VEVENT
END:VCALENDAR