BEGIN:VCALENDAR
VERSION:2.0
PRODID:-//abide church - ECPv6.15.20//NONSGML v1.0//EN
CALSCALE:GREGORIAN
METHOD:PUBLISH
X-WR-CALNAME:abide church
X-ORIGINAL-URL:https://abidechurch.org.nz
X-WR-CALDESC:Events for abide church
REFRESH-INTERVAL;VALUE=DURATION:PT1H
X-Robots-Tag:noindex
X-PUBLISHED-TTL:PT1H
BEGIN:VTIMEZONE
TZID:Pacific/Auckland
BEGIN:STANDARD
TZOFFSETFROM:+1300
TZOFFSETTO:+1200
TZNAME:NZST
DTSTART:20210403T140000
END:STANDARD
BEGIN:DAYLIGHT
TZOFFSETFROM:+1200
TZOFFSETTO:+1300
TZNAME:NZDT
DTSTART:20210925T140000
END:DAYLIGHT
BEGIN:STANDARD
TZOFFSETFROM:+1300
TZOFFSETTO:+1200
TZNAME:NZST
DTSTART:20220402T140000
END:STANDARD
BEGIN:DAYLIGHT
TZOFFSETFROM:+1200
TZOFFSETTO:+1300
TZNAME:NZDT
DTSTART:20220924T140000
END:DAYLIGHT
BEGIN:STANDARD
TZOFFSETFROM:+1300
TZOFFSETTO:+1200
TZNAME:NZST
DTSTART:20230401T140000
END:STANDARD
BEGIN:DAYLIGHT
TZOFFSETFROM:+1200
TZOFFSETTO:+1300
TZNAME:NZDT
DTSTART:20230923T140000
END:DAYLIGHT
END:VTIMEZONE
BEGIN:VEVENT
DTSTART;TZID=Pacific/Auckland:20220918T080000
DTEND;TZID=Pacific/Auckland:20220918T120000
DTSTAMP:20260422T124339
CREATED:20220901T051523Z
LAST-MODIFIED:20220901T051523Z
UID:1409-1663488000-1663502400@abidechurch.org.nz
SUMMARY:Sunday Morning Service (Bridge Club 10am)
DESCRIPTION:
URL:https://abidechurch.org.nz/event/sunday-morning-service-bridge-club-10am-54/
LOCATION:Hamilton Bridge Club\, 20 Richmond Street\, Whitiora\, Hamilton\, New Zealand
END:VEVENT
BEGIN:VEVENT
DTSTART;TZID=Pacific/Auckland:20220911T103000
DTEND;TZID=Pacific/Auckland:20220911T120000
DTSTAMP:20260422T124339
CREATED:20220901T051459Z
LAST-MODIFIED:20220901T051459Z
UID:1407-1662892200-1662897600@abidechurch.org.nz
SUMMARY:Farm Church / Pot Luck Lunch (Te Pahu 10:30am)
DESCRIPTION:the Bridge Club is not available this week\, we will be meeting offsite for FARM Church \n10:30am [a little later than our usual start time] \nAt Graham and Sarah’s home in Te Pahu.  email ofice@abidechurch.org.nz if you don’t know the address.
URL:https://abidechurch.org.nz/event/farm-church-pot-luck-lunch-te-pahu-1030am/
LOCATION:Graham & Sarah Corbans\, Graham & Sarah Corbans Place\, Te Pahu\, New Zealand
END:VEVENT
BEGIN:VEVENT
DTSTART;TZID=Pacific/Auckland:20220904T100000
DTEND;TZID=Pacific/Auckland:20220904T120000
DTSTAMP:20260422T124339
CREATED:20220802T002325Z
LAST-MODIFIED:20220901T051312Z
UID:1378-1662285600-1662292800@abidechurch.org.nz
SUMMARY:Sunday Morning Service (Bridge Club 10am)
DESCRIPTION:We have guest speakers Tim and Nicky Cleary. \nNicky ran the Parenting Course that was held this week at WHCC.
URL:https://abidechurch.org.nz/event/sunday-morning-service-bridge-club-10am-53/
LOCATION:Hamilton Bridge Club\, 20 Richmond Street\, Whitiora\, Hamilton\, New Zealand
END:VEVENT
BEGIN:VEVENT
DTSTART;TZID=Pacific/Auckland:20220831T190000
DTEND;TZID=Pacific/Auckland:20220831T210000
DTSTAMP:20260422T124339
CREATED:20220814T012719Z
LAST-MODIFIED:20220814T012805Z
UID:1397-1661972400-1661979600@abidechurch.org.nz
SUMMARY:Parenting Seminar: Determined Parenting For Determined Children
DESCRIPTION:Parenting In Strength – Nicky Cleary\nIs life with your determined child such a battle of the wills that you are unsure whether either of you will make it out with your sanity intact? \nIn this seminar\, you will receive some tried and true methods to deal with your strong-willed child. \nCome along and be encouraged as you hear the stories of others and realise that you are not the only one. \nDevelop your determination to continue being the ‘big person’ in this relationship. Realise that your determined child need you to march that determination with honed parenting skills. \nCost: $10 per person\nLocation: West Hamilton Community Church\, 27a Rifle Range Rd\, Hamilton\nTime: 7pm – 9pm (includes supper)\nRSVP by 29th Aug: office@whcc.org.nz
URL:https://abidechurch.org.nz/event/parenting-seminar-determined-parenting-for-determined-children/
END:VEVENT
BEGIN:VEVENT
DTSTART;VALUE=DATE:20220828
DTEND;VALUE=DATE:20220829
DTSTAMP:20260422T124339
CREATED:20220802T000551Z
LAST-MODIFIED:20220825T091259Z
UID:1376-1661644800-1661731199@abidechurch.org.nz
SUMMARY:Fellowship Sunday
DESCRIPTION:There will be no formal gathering this Sunday. We encourage you all to think about who you could invite to join you in fellowship.  You can also use this opportunity to reach out to some unchurched people. \nJohn and Louise Mazengarb invite  you to join them at their place this Sunday.  Over morning tea we are reflecting on how our faith has been challenged and grown while we have journeyed through the book of Habakkuk. Please bring a reflection\, a passage of Scripture\, a poem\, literature extract or a favourite piece of music or art to share on a theme from Habakkuk.\nRSVP either to John or Louise – or just turn up!\n(Please park at Sarah and Graham’s and walk up to our place as we have a muddy entranceway under construction).
URL:https://abidechurch.org.nz/event/fellowship-sunday-4/
END:VEVENT
BEGIN:VEVENT
DTSTART;TZID=Pacific/Auckland:20220821T100000
DTEND;TZID=Pacific/Auckland:20220821T120000
DTSTAMP:20260422T124339
CREATED:20220802T000458Z
LAST-MODIFIED:20220802T000506Z
UID:1374-1661076000-1661083200@abidechurch.org.nz
SUMMARY:Sunday Morning Service (Bridge Club 10am)
DESCRIPTION:
URL:https://abidechurch.org.nz/event/sunday-morning-service-bridge-club-10am-52/
LOCATION:Hamilton Bridge Club\, 20 Richmond Street\, Whitiora\, Hamilton\, New Zealand
END:VEVENT
BEGIN:VEVENT
DTSTART;TZID=Pacific/Auckland:20220820T190000
DTEND;TZID=Pacific/Auckland:20220820T213000
DTSTAMP:20260422T124339
CREATED:20220814T012545Z
LAST-MODIFIED:20220814T012545Z
UID:1393-1661022000-1661031000@abidechurch.org.nz
SUMMARY:Quiz Night (Tearfund Fundraiser)
DESCRIPTION:
URL:https://abidechurch.org.nz/event/quiz-night-tearfund-fundraiser/
LOCATION:Holy Trinity Church 87 Forest Lake Rd\, 87 Forest Lake Rd\, Hamilton\, 3204\, New Zealand
END:VEVENT
BEGIN:VEVENT
DTSTART;TZID=Pacific/Auckland:20220814T100000
DTEND;TZID=Pacific/Auckland:20220814T170000
DTSTAMP:20260422T124339
CREATED:20220802T000429Z
LAST-MODIFIED:20220802T000429Z
UID:1372-1660471200-1660496400@abidechurch.org.nz
SUMMARY:Sunday Morning Service (Bridge Club 10am)
DESCRIPTION:
URL:https://abidechurch.org.nz/event/sunday-morning-service-bridge-club-10am-51/
LOCATION:Hamilton Bridge Club\, 20 Richmond Street\, Whitiora\, Hamilton\, New Zealand
END:VEVENT
BEGIN:VEVENT
DTSTART;TZID=Pacific/Auckland:20220807T100000
DTEND;TZID=Pacific/Auckland:20220807T120000
DTSTAMP:20260422T124339
CREATED:20220802T000411Z
LAST-MODIFIED:20220802T000411Z
UID:1370-1659866400-1659873600@abidechurch.org.nz
SUMMARY:Sunday Morning Service (Bridge Club 10am)
DESCRIPTION:
URL:https://abidechurch.org.nz/event/sunday-morning-service-bridge-club-10am-50/
LOCATION:Hamilton Bridge Club\, 20 Richmond Street\, Whitiora\, Hamilton\, New Zealand
END:VEVENT
BEGIN:VEVENT
DTSTART;TZID=Pacific/Auckland:20220731T100000
DTEND;TZID=Pacific/Auckland:20220731T120000
DTSTAMP:20260422T124339
CREATED:20220624T212945Z
LAST-MODIFIED:20220624T212945Z
UID:1339-1659261600-1659268800@abidechurch.org.nz
SUMMARY:Sunday Morning Service (Bridge Club 10am)
DESCRIPTION:
URL:https://abidechurch.org.nz/event/sunday-morning-service-bridge-club-10am-49/
LOCATION:Hamilton Bridge Club\, 20 Richmond Street\, Whitiora\, Hamilton\, New Zealand
END:VEVENT
BEGIN:VEVENT
DTSTART;TZID=Pacific/Auckland:20220724T100000
DTEND;TZID=Pacific/Auckland:20220724T120000
DTSTAMP:20260422T124339
CREATED:20220624T212930Z
LAST-MODIFIED:20220624T212930Z
UID:1337-1658656800-1658664000@abidechurch.org.nz
SUMMARY:Sunday Morning Service (Bridge Club 10am)
DESCRIPTION:
URL:https://abidechurch.org.nz/event/sunday-morning-service-bridge-club-10am-48/
LOCATION:Hamilton Bridge Club\, 20 Richmond Street\, Whitiora\, Hamilton\, New Zealand
END:VEVENT
BEGIN:VEVENT
DTSTART;TZID=Pacific/Auckland:20220717T103000
DTEND;TZID=Pacific/Auckland:20220717T113000
DTSTAMP:20260422T124339
CREATED:20220624T212906Z
LAST-MODIFIED:20220715T035424Z
UID:1335-1658053800-1658057400@abidechurch.org.nz
SUMMARY:Fellowship Sunday / Zoom Service
DESCRIPTION:Zoom service at 10:30am. We encourage you to meet in homes/small groups this week
URL:https://abidechurch.org.nz/event/sunday-morning-service-bridge-club-10am-47/
LOCATION:Hamilton Bridge Club\, 20 Richmond Street\, Whitiora\, Hamilton\, New Zealand
END:VEVENT
BEGIN:VEVENT
DTSTART;TZID=Pacific/Auckland:20220710T100000
DTEND;TZID=Pacific/Auckland:20220710T120000
DTSTAMP:20260422T124339
CREATED:20220624T212815Z
LAST-MODIFIED:20220624T212815Z
UID:1333-1657447200-1657454400@abidechurch.org.nz
SUMMARY:Sunday Morning Service (Bridge Club 10am)
DESCRIPTION:
URL:https://abidechurch.org.nz/event/sunday-morning-service-bridge-club-10am-46/
LOCATION:Hamilton Bridge Club\, 20 Richmond Street\, Whitiora\, Hamilton\, New Zealand
END:VEVENT
BEGIN:VEVENT
DTSTART;TZID=Pacific/Auckland:20220703T100000
DTEND;TZID=Pacific/Auckland:20220703T120000
DTSTAMP:20260422T124339
CREATED:20220624T212758Z
LAST-MODIFIED:20220624T212758Z
UID:1330-1656842400-1656849600@abidechurch.org.nz
SUMMARY:Sunday Morning Service (Bridge Club 10am)
DESCRIPTION:
URL:https://abidechurch.org.nz/event/sunday-morning-service-bridge-club-10am-45/
LOCATION:Hamilton Bridge Club\, 20 Richmond Street\, Whitiora\, Hamilton\, New Zealand
END:VEVENT
BEGIN:VEVENT
DTSTART;TZID=Pacific/Auckland:20220626T100000
DTEND;TZID=Pacific/Auckland:20220626T120000
DTSTAMP:20260422T124339
CREATED:20220526T033619Z
LAST-MODIFIED:20220526T033742Z
UID:1304-1656237600-1656244800@abidechurch.org.nz
SUMMARY:Sunday Morning Service (Bridge Club 10am)
DESCRIPTION:
URL:https://abidechurch.org.nz/event/sunday-morning-service-bridge-club-10am-44/
LOCATION:Hamilton Bridge Club\, 20 Richmond Street\, Whitiora\, Hamilton\, New Zealand
END:VEVENT
BEGIN:VEVENT
DTSTART;TZID=Pacific/Auckland:20220619T100000
DTEND;TZID=Pacific/Auckland:20220619T120000
DTSTAMP:20260422T124339
CREATED:20220526T033552Z
LAST-MODIFIED:20220616T051301Z
UID:1302-1655632800-1655640000@abidechurch.org.nz
SUMMARY:Fellowship Sunday / Zoom Service
DESCRIPTION:Zoom service at 10:30am. We encourage you to meet in homes/small groups this week
URL:https://abidechurch.org.nz/event/tbc/
END:VEVENT
BEGIN:VEVENT
DTSTART;TZID=Pacific/Auckland:20220612T100000
DTEND;TZID=Pacific/Auckland:20220612T120000
DTSTAMP:20260422T124339
CREATED:20220526T033520Z
LAST-MODIFIED:20220526T033520Z
UID:1300-1655028000-1655035200@abidechurch.org.nz
SUMMARY:Sunday Morning Service - Baptism Service (Bridge Club 10am)
DESCRIPTION:Visiting Preacher – Rev Dave Clancey. Followed by a shared lunch after the service
URL:https://abidechurch.org.nz/event/sunday-morning-service-baptism-service-bridge-club-10am-2/
LOCATION:Hamilton Bridge Club\, 20 Richmond Street\, Whitiora\, Hamilton\, New Zealand
END:VEVENT
BEGIN:VEVENT
DTSTART;TZID=Pacific/Auckland:20220605T100000
DTEND;TZID=Pacific/Auckland:20220605T120000
DTSTAMP:20260422T124339
CREATED:20220526T033346Z
LAST-MODIFIED:20220526T033346Z
UID:1298-1654423200-1654430400@abidechurch.org.nz
SUMMARY:Sunday Morning Service (Bridge Club 10am)
DESCRIPTION:
URL:https://abidechurch.org.nz/event/sunday-morning-service-bridge-club-10am-43/
LOCATION:Hamilton Bridge Club\, 20 Richmond Street\, Whitiora\, Hamilton\, New Zealand
END:VEVENT
BEGIN:VEVENT
DTSTART;TZID=Pacific/Auckland:20220529T100000
DTEND;TZID=Pacific/Auckland:20220529T120000
DTSTAMP:20260422T124339
CREATED:20220503T215328Z
LAST-MODIFIED:20220503T215328Z
UID:1285-1653818400-1653825600@abidechurch.org.nz
SUMMARY:Sunday Morning Service (Bridge Club 10am)
DESCRIPTION:
URL:https://abidechurch.org.nz/event/sunday-morning-service-bridge-club-10am-42/
LOCATION:Hamilton Bridge Club\, 20 Richmond Street\, Whitiora\, Hamilton\, New Zealand
END:VEVENT
BEGIN:VEVENT
DTSTART;TZID=Pacific/Auckland:20220522T080000
DTEND;TZID=Pacific/Auckland:20220522T170000
DTSTAMP:20260422T124339
CREATED:20220503T215259Z
LAST-MODIFIED:20220511T080405Z
UID:1283-1653206400-1653238800@abidechurch.org.nz
SUMMARY:Farm Church / Pot Luck Lunch (Whatawhata 10:30am)
DESCRIPTION:Farm Church at Ron and Rach Corbans. Shared lunch to follow\, please bring a plate of food to share. (Please email us if you don’t know the address for this)
URL:https://abidechurch.org.nz/event/farm-church-pot-luck-lunch-whatawhata-1030am/
END:VEVENT
BEGIN:VEVENT
DTSTART;TZID=Pacific/Auckland:20220515T100000
DTEND;TZID=Pacific/Auckland:20220515T120000
DTSTAMP:20260422T124339
CREATED:20220503T215202Z
LAST-MODIFIED:20220503T215202Z
UID:1281-1652608800-1652616000@abidechurch.org.nz
SUMMARY:Fellowship Sunday - no official gathering together.
DESCRIPTION:We encourage you to meet in groups for fellowship and food\, and all people who gather as our church on our mailing list will receive discussion questions\, which are based in our gospel of Mark teaching series.
URL:https://abidechurch.org.nz/event/fellowship-sunday-no-official-gathering-together/
END:VEVENT
BEGIN:VEVENT
DTSTART;TZID=Pacific/Auckland:20220515T100000
DTEND;TZID=Pacific/Auckland:20220515T120000
DTSTAMP:20260422T124339
CREATED:20220423T232038Z
LAST-MODIFIED:20220423T232038Z
UID:1265-1652608800-1652616000@abidechurch.org.nz
SUMMARY:Sunday Morning Service (Bridge Club 10am)
DESCRIPTION:
URL:https://abidechurch.org.nz/event/sunday-morning-service-bridge-club-10am-40/
LOCATION:Hamilton Bridge Club\, 20 Richmond Street\, Whitiora\, Hamilton\, New Zealand
END:VEVENT
BEGIN:VEVENT
DTSTART;TZID=Pacific/Auckland:20220508T100000
DTEND;TZID=Pacific/Auckland:20220508T120000
DTSTAMP:20260422T124339
CREATED:20220503T215122Z
LAST-MODIFIED:20220503T215122Z
UID:1279-1652004000-1652011200@abidechurch.org.nz
SUMMARY:Sunday Morning Service (Bridge Club 10am)
DESCRIPTION:
URL:https://abidechurch.org.nz/event/sunday-morning-service-bridge-club-10am-41/
LOCATION:Hamilton Bridge Club\, 20 Richmond Street\, Whitiora\, Hamilton\, New Zealand
END:VEVENT
BEGIN:VEVENT
DTSTART;TZID=Pacific/Auckland:20220508T100000
DTEND;TZID=Pacific/Auckland:20220508T120000
DTSTAMP:20260422T124339
CREATED:20220423T232022Z
LAST-MODIFIED:20220423T232022Z
UID:1263-1652004000-1652011200@abidechurch.org.nz
SUMMARY:Sunday Morning Service (Bridge Club 10am)
DESCRIPTION:
URL:https://abidechurch.org.nz/event/sunday-morning-service-bridge-club-10am-39/
LOCATION:Hamilton Bridge Club\, 20 Richmond Street\, Whitiora\, Hamilton\, New Zealand
END:VEVENT
BEGIN:VEVENT
DTSTART;TZID=Pacific/Auckland:20220501T100000
DTEND;TZID=Pacific/Auckland:20220501T120000
DTSTAMP:20260422T124339
CREATED:20220423T231850Z
LAST-MODIFIED:20220423T231850Z
UID:1261-1651399200-1651406400@abidechurch.org.nz
SUMMARY:Sunday Morning Service (Bridge Club 10am)
DESCRIPTION:
URL:https://abidechurch.org.nz/event/sunday-morning-service-bridge-club-10am-38/
LOCATION:Hamilton Bridge Club\, 20 Richmond Street\, Whitiora\, Hamilton\, New Zealand
END:VEVENT
BEGIN:VEVENT
DTSTART;TZID=Pacific/Auckland:20220417T063000
DTEND;TZID=Pacific/Auckland:20220417T120000
DTSTAMP:20260422T124339
CREATED:20220404T053203Z
LAST-MODIFIED:20220404T053217Z
UID:1222-1650177000-1650196800@abidechurch.org.nz
SUMMARY:Resurrection Breakfast / Farm Church (Te Pahu 6:30am\, 8:30am\, 10am)
DESCRIPTION:Join us in celebrating the greatest event in our Christian calendar…\nResurrection Sunday! \nWe are meeting together at dawn to celebrate Jesus’ resurrection\, to be followed by sharing together in a special Resurrection breakfast. \nThis will be at the Corban’s place\, Te Pahu (contact us if you need the address)\n6.30am [Sunrise] Champagne/coffee\, reflection and readings.\n8.30am Celebration Breakfast\n10.00am Easter Service \nYou are welcome to join for any or all of the above! \n  \nRSVP to Rose by Sunday 10th April.
URL:https://abidechurch.org.nz/event/resurrection-breakfast-farm-church-te-pahu-630am-830am-10am/
LOCATION:Graham & Sarah Corbans\, Graham & Sarah Corbans Place\, Te Pahu\, New Zealand
END:VEVENT
BEGIN:VEVENT
DTSTART;TZID=Pacific/Auckland:20220415T093000
DTEND;TZID=Pacific/Auckland:20220415T103000
DTSTAMP:20260422T124339
CREATED:20220404T053426Z
LAST-MODIFIED:20220404T053528Z
UID:1227-1650015000-1650018600@abidechurch.org.nz
SUMMARY:GOOD FRIDAY Service 9:30am (WHCC)
DESCRIPTION:We have been invited to join…\nWest Hamilton Community Church \n  \nIt would be helpful for WHCC to know approximately how many people are planning to go to these services.\nRSVP to Rose by mid-day on Wednesday 13th April
URL:https://abidechurch.org.nz/event/good-friday-service-930am-whcc/
LOCATION:West Hamilton Community Church\, 27A Rifle Range Road\, Dinsdale\, Hamilton\, New Zealand
END:VEVENT
BEGIN:VEVENT
DTSTART;TZID=Pacific/Auckland:20220414T190000
DTEND;TZID=Pacific/Auckland:20220414T200000
DTSTAMP:20260422T124339
CREATED:20220404T053334Z
LAST-MODIFIED:20220404T053516Z
UID:1225-1649962800-1649966400@abidechurch.org.nz
SUMMARY:MAUNDY THURSDAY Service 7pm (WHCC)
DESCRIPTION:We have been invited to join…\nWest Hamilton Community Church \n  \nIt would be helpful for WHCC to know approximately how many people are planning to go to these services.\nRSVP to Rose by mid-day on Wednesday 13th April
URL:https://abidechurch.org.nz/event/maundy-thursday-service/
LOCATION:West Hamilton Community Church\, 27A Rifle Range Road\, Dinsdale\, Hamilton\, New Zealand
END:VEVENT
BEGIN:VEVENT
DTSTART;TZID=Pacific/Auckland:20220414T140000
DTEND;TZID=Pacific/Auckland:20220414T150000
DTSTAMP:20260422T124339
CREATED:20220404T053458Z
LAST-MODIFIED:20220404T053549Z
UID:1229-1649944800-1649948400@abidechurch.org.nz
SUMMARY:GOOD FRIDAY Service 2pm (WHCC)
DESCRIPTION:We have been invited to join…\nWest Hamilton Community Church \n  \nIt would be helpful for WHCC to know approximately how many people are planning to go to these services.\nRSVP to Rose by mid-day on Wednesday 13th April
URL:https://abidechurch.org.nz/event/good-friday-service-2pm-whcc/
LOCATION:West Hamilton Community Church\, 27A Rifle Range Road\, Dinsdale\, Hamilton\, New Zealand
END:VEVENT
BEGIN:VEVENT
DTSTART;TZID=Pacific/Auckland:20220410T100000
DTEND;TZID=Pacific/Auckland:20220410T120000
DTSTAMP:20260422T124339
CREATED:20220404T052750Z
LAST-MODIFIED:20220404T053651Z
UID:1220-1649584800-1649592000@abidechurch.org.nz
SUMMARY:Sunday Morning Service + AGM (Bridge Club 10am)
DESCRIPTION:Join us back at the bridge club at 10am.  Followed by our AGM
URL:https://abidechurch.org.nz/event/sunday-morning-service-bridge-club-10am-37/
LOCATION:Hamilton Bridge Club\, 20 Richmond Street\, Whitiora\, Hamilton\, New Zealand
END:VEVENT
END:VCALENDAR