BEGIN:VCALENDAR
VERSION:2.0
PRODID:-//abide church - ECPv6.15.20//NONSGML v1.0//EN
CALSCALE:GREGORIAN
METHOD:PUBLISH
X-WR-CALNAME:abide church
X-ORIGINAL-URL:https://abidechurch.org.nz
X-WR-CALDESC:Events for abide church
REFRESH-INTERVAL;VALUE=DURATION:PT1H
X-Robots-Tag:noindex
X-PUBLISHED-TTL:PT1H
BEGIN:VTIMEZONE
TZID:Pacific/Auckland
BEGIN:STANDARD
TZOFFSETFROM:+1300
TZOFFSETTO:+1200
TZNAME:NZST
DTSTART:20210403T140000
END:STANDARD
BEGIN:DAYLIGHT
TZOFFSETFROM:+1200
TZOFFSETTO:+1300
TZNAME:NZDT
DTSTART:20210925T140000
END:DAYLIGHT
BEGIN:STANDARD
TZOFFSETFROM:+1300
TZOFFSETTO:+1200
TZNAME:NZST
DTSTART:20220402T140000
END:STANDARD
BEGIN:DAYLIGHT
TZOFFSETFROM:+1200
TZOFFSETTO:+1300
TZNAME:NZDT
DTSTART:20220924T140000
END:DAYLIGHT
BEGIN:STANDARD
TZOFFSETFROM:+1300
TZOFFSETTO:+1200
TZNAME:NZST
DTSTART:20230401T140000
END:STANDARD
BEGIN:DAYLIGHT
TZOFFSETFROM:+1200
TZOFFSETTO:+1300
TZNAME:NZDT
DTSTART:20230923T140000
END:DAYLIGHT
BEGIN:STANDARD
TZOFFSETFROM:+1300
TZOFFSETTO:+1200
TZNAME:NZST
DTSTART:20240406T140000
END:STANDARD
BEGIN:DAYLIGHT
TZOFFSETFROM:+1200
TZOFFSETTO:+1300
TZNAME:NZDT
DTSTART:20240928T140000
END:DAYLIGHT
END:VTIMEZONE
BEGIN:VEVENT
DTSTART;TZID=Pacific/Auckland:20230730T120000
DTEND;TZID=Pacific/Auckland:20230730T140000
DTSTAMP:20260422T043846
CREATED:20230622T031721Z
LAST-MODIFIED:20230622T031721Z
UID:1697-1690718400-1690725600@abidechurch.org.nz
SUMMARY:Fellowship Event  - Guess Who’s Coming to Lunch
DESCRIPTION:This fun event is being organised for fellowship Sunday which is on 30th July. \nWe hosted a similar event a couple of years ago as a dinner instead of a lunch\, it was greatly enjoyed by those who attended. Be encouraged to join in the fun. \nYou may want to be a HOST or maybe you’d rather be a GUEST…. either way this event is a great opportunity for fun and fellowship. \nAll the details about this event are on the sign up form on the Welcome table….. please take some time to read / complete this form. \nRSVP to rose@abidechurch.org.nz by Sunday 23rd July.
URL:https://abidechurch.org.nz/event/fellowship-event-guess-whos-coming-to-lunch/
END:VEVENT
BEGIN:VEVENT
DTSTART;TZID=Pacific/Auckland:20230723T100000
DTEND;TZID=Pacific/Auckland:20230723T120000
DTSTAMP:20260422T043846
CREATED:20230622T031556Z
LAST-MODIFIED:20230622T031556Z
UID:1695-1690106400-1690113600@abidechurch.org.nz
SUMMARY:Sunday Morning Service (Bridge Club 10am)
DESCRIPTION:
URL:https://abidechurch.org.nz/event/sunday-morning-service-bridge-club-10am-83/
LOCATION:Hamilton Bridge Club\, 20 Richmond Street\, Whitiora\, Hamilton\, New Zealand
END:VEVENT
BEGIN:VEVENT
DTSTART;TZID=Pacific/Auckland:20230716T100000
DTEND;TZID=Pacific/Auckland:20230716T120000
DTSTAMP:20260422T043846
CREATED:20230622T031533Z
LAST-MODIFIED:20230622T031533Z
UID:1693-1689501600-1689508800@abidechurch.org.nz
SUMMARY:Sunday Morning Service (Bridge Club 10am)
DESCRIPTION:
URL:https://abidechurch.org.nz/event/sunday-morning-service-bridge-club-10am-82/
LOCATION:Hamilton Bridge Club\, 20 Richmond Street\, Whitiora\, Hamilton\, New Zealand
END:VEVENT
BEGIN:VEVENT
DTSTART;TZID=Pacific/Auckland:20230709T100000
DTEND;TZID=Pacific/Auckland:20230709T120000
DTSTAMP:20260422T043846
CREATED:20230622T031515Z
LAST-MODIFIED:20230622T031515Z
UID:1691-1688896800-1688904000@abidechurch.org.nz
SUMMARY:Sunday Morning Service (Bridge Club 10am)
DESCRIPTION:
URL:https://abidechurch.org.nz/event/sunday-morning-service-bridge-club-10am-81/
LOCATION:Hamilton Bridge Club\, 20 Richmond Street\, Whitiora\, Hamilton\, New Zealand
END:VEVENT
BEGIN:VEVENT
DTSTART;TZID=Pacific/Auckland:20230702T100000
DTEND;TZID=Pacific/Auckland:20230702T120000
DTSTAMP:20260422T043846
CREATED:20230622T031458Z
LAST-MODIFIED:20230622T031458Z
UID:1689-1688292000-1688299200@abidechurch.org.nz
SUMMARY:Sunday Morning Service (Bridge Club 10am)
DESCRIPTION:
URL:https://abidechurch.org.nz/event/sunday-morning-service-bridge-club-10am-80/
LOCATION:Hamilton Bridge Club\, 20 Richmond Street\, Whitiora\, Hamilton\, New Zealand
END:VEVENT
BEGIN:VEVENT
DTSTART;TZID=Pacific/Auckland:20230625T100000
DTEND;TZID=Pacific/Auckland:20230625T120000
DTSTAMP:20260422T043846
CREATED:20230524T051125Z
LAST-MODIFIED:20230524T051125Z
UID:1680-1687687200-1687694400@abidechurch.org.nz
SUMMARY:Sunday Morning Service (Bridge Club 10am)
DESCRIPTION:
URL:https://abidechurch.org.nz/event/sunday-morning-service-bridge-club-10am-79/
LOCATION:Hamilton Bridge Club\, 20 Richmond Street\, Whitiora\, Hamilton\, New Zealand
END:VEVENT
BEGIN:VEVENT
DTSTART;TZID=Pacific/Auckland:20230618T103000
DTEND;TZID=Pacific/Auckland:20230618T133000
DTSTAMP:20260422T043846
CREATED:20230524T051101Z
LAST-MODIFIED:20230524T051148Z
UID:1677-1687084200-1687095000@abidechurch.org.nz
SUMMARY:Farm Church / Baptism Service + Pot Luck Lunch (Te Pahu 10:30am)
DESCRIPTION:Farm Church and a baptism service 10:30am at Graham and Sarah’s home \nWe will have a shared meal after the service\, so bring along a plate of food to share. \nWe promise the water will be warm for those being baptised. \nIf anyone would like to be baptised at this service please let Sarah or Graham know.
URL:https://abidechurch.org.nz/event/farm-church-baptism-service-pot-luck-lunch-te-pahu-1030am/
LOCATION:Graham & Sarah Corbans\, Graham & Sarah Corbans Place\, Te Pahu\, New Zealand
END:VEVENT
BEGIN:VEVENT
DTSTART;TZID=Pacific/Auckland:20230611T100000
DTEND;TZID=Pacific/Auckland:20230611T120000
DTSTAMP:20260422T043846
CREATED:20230524T050932Z
LAST-MODIFIED:20230524T050932Z
UID:1675-1686477600-1686484800@abidechurch.org.nz
SUMMARY:Sunday Morning Service (Bridge Club 10am)
DESCRIPTION:
URL:https://abidechurch.org.nz/event/sunday-morning-service-bridge-club-10am-78/
LOCATION:Hamilton Bridge Club\, 20 Richmond Street\, Whitiora\, Hamilton\, New Zealand
END:VEVENT
BEGIN:VEVENT
DTSTART;TZID=Pacific/Auckland:20230604T100000
DTEND;TZID=Pacific/Auckland:20230604T120000
DTSTAMP:20260422T043846
CREATED:20230524T050845Z
LAST-MODIFIED:20230524T050845Z
UID:1673-1685872800-1685880000@abidechurch.org.nz
SUMMARY:Fellowship Sunday
DESCRIPTION:No formal church service today. Spend some time with someone from the Abide family – go for a walk\, meet for coffee\, go to lunch…. Whatever you choose to do use the time to get to know each other better.
URL:https://abidechurch.org.nz/event/fellowship-sunday-7/
END:VEVENT
BEGIN:VEVENT
DTSTART;TZID=Pacific/Auckland:20230528T100000
DTEND;TZID=Pacific/Auckland:20230528T120000
DTSTAMP:20260422T043846
CREATED:20230316T023240Z
LAST-MODIFIED:20230316T023240Z
UID:1635-1685268000-1685275200@abidechurch.org.nz
SUMMARY:Sunday Morning Service (Bridge Club 10am)
DESCRIPTION:
URL:https://abidechurch.org.nz/event/sunday-morning-service-bridge-club-10am-77/
LOCATION:Hamilton Bridge Club\, 20 Richmond Street\, Whitiora\, Hamilton\, New Zealand
END:VEVENT
BEGIN:VEVENT
DTSTART;TZID=Pacific/Auckland:20230521T100000
DTEND;TZID=Pacific/Auckland:20230521T120000
DTSTAMP:20260422T043846
CREATED:20230316T023221Z
LAST-MODIFIED:20230316T023221Z
UID:1633-1684663200-1684670400@abidechurch.org.nz
SUMMARY:Sunday Morning Service (Bridge Club 10am)
DESCRIPTION:
URL:https://abidechurch.org.nz/event/sunday-morning-service-bridge-club-10am-76/
LOCATION:Hamilton Bridge Club\, 20 Richmond Street\, Whitiora\, Hamilton\, New Zealand
END:VEVENT
BEGIN:VEVENT
DTSTART;TZID=Pacific/Auckland:20230514T100000
DTEND;TZID=Pacific/Auckland:20230514T120000
DTSTAMP:20260422T043846
CREATED:20230316T023122Z
LAST-MODIFIED:20230316T023122Z
UID:1629-1684058400-1684065600@abidechurch.org.nz
SUMMARY:Sunday Morning Service (Bridge Club 10am)
DESCRIPTION:
URL:https://abidechurch.org.nz/event/sunday-morning-service-bridge-club-10am-75/
LOCATION:Hamilton Bridge Club\, 20 Richmond Street\, Whitiora\, Hamilton\, New Zealand
END:VEVENT
BEGIN:VEVENT
DTSTART;TZID=Pacific/Auckland:20230507T100000
DTEND;TZID=Pacific/Auckland:20230507T120000
DTSTAMP:20260422T043846
CREATED:20230316T023048Z
LAST-MODIFIED:20230316T023048Z
UID:1627-1683453600-1683460800@abidechurch.org.nz
SUMMARY:Sunday Morning Service (Bridge Club 10am)
DESCRIPTION:
URL:https://abidechurch.org.nz/event/sunday-morning-service-bridge-club-10am-74/
LOCATION:Hamilton Bridge Club\, 20 Richmond Street\, Whitiora\, Hamilton\, New Zealand
END:VEVENT
BEGIN:VEVENT
DTSTART;TZID=Pacific/Auckland:20230430T100000
DTEND;TZID=Pacific/Auckland:20230430T120000
DTSTAMP:20260422T043846
CREATED:20230316T022831Z
LAST-MODIFIED:20230316T022831Z
UID:1623-1682848800-1682856000@abidechurch.org.nz
SUMMARY:Sunday Morning Service (Bridge Club 10am)
DESCRIPTION:
URL:https://abidechurch.org.nz/event/sunday-morning-service-bridge-club-10am-72/
LOCATION:Hamilton Bridge Club\, 20 Richmond Street\, Whitiora\, Hamilton\, New Zealand
END:VEVENT
BEGIN:VEVENT
DTSTART;TZID=Pacific/Auckland:20230423T100000
DTEND;TZID=Pacific/Auckland:20230423T120000
DTSTAMP:20260422T043846
CREATED:20230316T023005Z
LAST-MODIFIED:20230316T023005Z
UID:1625-1682244000-1682251200@abidechurch.org.nz
SUMMARY:Sunday Morning Service (Bridge Club 10am)
DESCRIPTION:
URL:https://abidechurch.org.nz/event/sunday-morning-service-bridge-club-10am-73/
LOCATION:Hamilton Bridge Club\, 20 Richmond Street\, Whitiora\, Hamilton\, New Zealand
END:VEVENT
BEGIN:VEVENT
DTSTART;TZID=Pacific/Auckland:20230416T100000
DTEND;TZID=Pacific/Auckland:20230416T120000
DTSTAMP:20260422T043846
CREATED:20230316T022803Z
LAST-MODIFIED:20230316T022803Z
UID:1621-1681639200-1681646400@abidechurch.org.nz
SUMMARY:Sunday Morning Service (Bridge Club 10am)
DESCRIPTION:
URL:https://abidechurch.org.nz/event/sunday-morning-service-bridge-club-10am-71/
LOCATION:Hamilton Bridge Club\, 20 Richmond Street\, Whitiora\, Hamilton\, New Zealand
END:VEVENT
BEGIN:VEVENT
DTSTART;TZID=Pacific/Auckland:20230409T100000
DTEND;TZID=Pacific/Auckland:20230409T120000
DTSTAMP:20260422T043846
CREATED:20230316T022725Z
LAST-MODIFIED:20230316T022725Z
UID:1619-1681034400-1681041600@abidechurch.org.nz
SUMMARY:Sunday Morning Service (Bridge Club 10am)
DESCRIPTION:
URL:https://abidechurch.org.nz/event/sunday-morning-service-bridge-club-10am-70/
LOCATION:Hamilton Bridge Club\, 20 Richmond Street\, Whitiora\, Hamilton\, New Zealand
END:VEVENT
BEGIN:VEVENT
DTSTART;TZID=Pacific/Auckland:20230402T103000
DTEND;TZID=Pacific/Auckland:20230402T130000
DTSTAMP:20260422T043846
CREATED:20230316T022422Z
LAST-MODIFIED:20230316T023426Z
UID:1617-1680431400-1680440400@abidechurch.org.nz
SUMMARY:Passover Lunch / Farm Church (Te Pahu 10:30am)
DESCRIPTION:Join us for an informal Passover teaching / lunch on Sunday the 2nd April at Graham & Sarah’s place in Te Pahu (get in touch if you don’t know the address)\nExperience the incredible symbolism of this ancient feast that has been celebrated for thousands of years\, and how it all points to Jesus.\n\nThis will be a more relaxed take on a traditional passover meal. Kids welcome and invite your friends\, there will be plenty of time to hang out\, eat lamb cooked over an open fire and various interactive food related activities.\n\nPlease RSVP by 29th March so we can confirm numbers for food/seating.
URL:https://abidechurch.org.nz/event/passover-lunch-farm-church-te-pahu-1030am/
LOCATION:Graham & Sarah Corbans\, Graham & Sarah Corbans Place\, Te Pahu\, New Zealand
END:VEVENT
BEGIN:VEVENT
DTSTART;TZID=Pacific/Auckland:20230326T100000
DTEND;TZID=Pacific/Auckland:20230326T120000
DTSTAMP:20260422T043846
CREATED:20230316T022250Z
LAST-MODIFIED:20230316T022250Z
UID:1615-1679824800-1679832000@abidechurch.org.nz
SUMMARY:Sunday Morning Service (Bridge Club 10am)
DESCRIPTION:
URL:https://abidechurch.org.nz/event/sunday-morning-service-bridge-club-10am-69/
LOCATION:Hamilton Bridge Club\, 20 Richmond Street\, Whitiora\, Hamilton\, New Zealand
END:VEVENT
BEGIN:VEVENT
DTSTART;TZID=Pacific/Auckland:20230319T100000
DTEND;TZID=Pacific/Auckland:20230319T120000
DTSTAMP:20260422T043846
CREATED:20230316T022232Z
LAST-MODIFIED:20230316T022232Z
UID:1613-1679220000-1679227200@abidechurch.org.nz
SUMMARY:Sunday Morning Service (Bridge Club 10am)
DESCRIPTION:
URL:https://abidechurch.org.nz/event/sunday-morning-service-bridge-club-10am-68/
LOCATION:Hamilton Bridge Club\, 20 Richmond Street\, Whitiora\, Hamilton\, New Zealand
END:VEVENT
BEGIN:VEVENT
DTSTART;TZID=Pacific/Auckland:20230226T100000
DTEND;TZID=Pacific/Auckland:20230226T120000
DTSTAMP:20260422T043846
CREATED:20230202T210804Z
LAST-MODIFIED:20230202T210804Z
UID:1579-1677405600-1677412800@abidechurch.org.nz
SUMMARY:Sunday Morning Service (Bridge Club 10am)
DESCRIPTION:
URL:https://abidechurch.org.nz/event/sunday-morning-service-bridge-club-10am-67/
LOCATION:Hamilton Bridge Club\, 20 Richmond Street\, Whitiora\, Hamilton\, New Zealand
END:VEVENT
BEGIN:VEVENT
DTSTART;TZID=Pacific/Auckland:20230219T100000
DTEND;TZID=Pacific/Auckland:20230219T120000
DTSTAMP:20260422T043846
CREATED:20230202T210736Z
LAST-MODIFIED:20230202T210736Z
UID:1577-1676800800-1676808000@abidechurch.org.nz
SUMMARY:Sunday Morning Service (Bridge Club 10am)
DESCRIPTION:
URL:https://abidechurch.org.nz/event/sunday-morning-service-bridge-club-10am-66/
LOCATION:Hamilton Bridge Club\, 20 Richmond Street\, Whitiora\, Hamilton\, New Zealand
END:VEVENT
BEGIN:VEVENT
DTSTART;TZID=Pacific/Auckland:20230212T100000
DTEND;TZID=Pacific/Auckland:20230212T120000
DTSTAMP:20260422T043846
CREATED:20230202T210710Z
LAST-MODIFIED:20230202T210710Z
UID:1575-1676196000-1676203200@abidechurch.org.nz
SUMMARY:Sunday Morning Service (Bridge Club 10am)
DESCRIPTION:
URL:https://abidechurch.org.nz/event/sunday-morning-service-bridge-club-10am-65/
LOCATION:Hamilton Bridge Club\, 20 Richmond Street\, Whitiora\, Hamilton\, New Zealand
END:VEVENT
BEGIN:VEVENT
DTSTART;TZID=Pacific/Auckland:20230205T100000
DTEND;TZID=Pacific/Auckland:20230205T120000
DTSTAMP:20260422T043846
CREATED:20221219T201612Z
LAST-MODIFIED:20221219T201612Z
UID:1566-1675591200-1675598400@abidechurch.org.nz
SUMMARY:Sunday Morning Service (Bridge Club 10am)
DESCRIPTION:
URL:https://abidechurch.org.nz/event/sunday-morning-service-bridge-club-10am-64/
LOCATION:Hamilton Bridge Club\, 20 Richmond Street\, Whitiora\, Hamilton\, New Zealand
END:VEVENT
BEGIN:VEVENT
DTSTART;TZID=Pacific/Auckland:20230129T100000
DTEND;TZID=Pacific/Auckland:20230129T170000
DTSTAMP:20260422T043846
CREATED:20221219T201524Z
LAST-MODIFIED:20221219T201524Z
UID:1563-1674986400-1675011600@abidechurch.org.nz
SUMMARY:Farm Church (Te Pahu 10:30am)
DESCRIPTION:we will be meeting offsite for FARM Church + a pot luck lunch. \n10:30am [a little later than our usual start time] \nAt Graham and Sarah’s home in Te Pahu.  email ofice@abidechurch.org.nz if you don’t know the address.
URL:https://abidechurch.org.nz/event/farm-church-te-pahu-1030am-2/
LOCATION:Graham & Sarah Corbans\, Graham & Sarah Corbans Place\, Te Pahu\, New Zealand
END:VEVENT
BEGIN:VEVENT
DTSTART;TZID=Pacific/Auckland:20221224T173000
DTEND;TZID=Pacific/Auckland:20221224T183000
DTSTAMP:20260422T043846
CREATED:20221124T013116Z
LAST-MODIFIED:20221124T013116Z
UID:1522-1671903000-1671906600@abidechurch.org.nz
SUMMARY:CHRISTMAS EVE – Carol service (Bridge Club 5:30pm)
DESCRIPTION:Join us for Christmas carols and a short evening service 5:30pm to 6:30pm at the Hamilton Bridge Club. A great opportunity to invite friends & family.
URL:https://abidechurch.org.nz/event/christmas-eve-carol-service-bridge-club-530pm/
LOCATION:Hamilton Bridge Club\, 20 Richmond Street\, Whitiora\, Hamilton\, New Zealand
END:VEVENT
BEGIN:VEVENT
DTSTART;TZID=Pacific/Auckland:20221218T100000
DTEND;TZID=Pacific/Auckland:20221218T120000
DTSTAMP:20260422T043846
CREATED:20221124T012848Z
LAST-MODIFIED:20221124T012848Z
UID:1520-1671357600-1671364800@abidechurch.org.nz
SUMMARY:Sunday Morning Service (Bridge Club 10am)
DESCRIPTION:
URL:https://abidechurch.org.nz/event/sunday-morning-service-bridge-club-10am-63/
LOCATION:Hamilton Bridge Club\, 20 Richmond Street\, Whitiora\, Hamilton\, New Zealand
END:VEVENT
BEGIN:VEVENT
DTSTART;TZID=Pacific/Auckland:20221211T100000
DTEND;TZID=Pacific/Auckland:20221211T120000
DTSTAMP:20260422T043846
CREATED:20221124T012823Z
LAST-MODIFIED:20221124T012823Z
UID:1518-1670752800-1670760000@abidechurch.org.nz
SUMMARY:Sunday Morning Service (Bridge Club 10am)
DESCRIPTION:
URL:https://abidechurch.org.nz/event/sunday-morning-service-bridge-club-10am-62/
LOCATION:Hamilton Bridge Club\, 20 Richmond Street\, Whitiora\, Hamilton\, New Zealand
END:VEVENT
BEGIN:VEVENT
DTSTART;TZID=Pacific/Auckland:20221204T100000
DTEND;TZID=Pacific/Auckland:20221204T120000
DTSTAMP:20260422T043846
CREATED:20221124T012759Z
LAST-MODIFIED:20221124T012759Z
UID:1516-1670148000-1670155200@abidechurch.org.nz
SUMMARY:Sunday Morning Service (Bridge Club 10am)
DESCRIPTION:
URL:https://abidechurch.org.nz/event/sunday-morning-service-bridge-club-10am-61/
LOCATION:Hamilton Bridge Club\, 20 Richmond Street\, Whitiora\, Hamilton\, New Zealand
END:VEVENT
BEGIN:VEVENT
DTSTART;TZID=Pacific/Auckland:20221127T100000
DTEND;TZID=Pacific/Auckland:20221127T120000
DTSTAMP:20260422T043846
CREATED:20221110T031050Z
LAST-MODIFIED:20221110T031050Z
UID:1505-1669543200-1669550400@abidechurch.org.nz
SUMMARY:Farm Church (Te Pahu 10:30am)
DESCRIPTION:we will be meeting offsite for FARM Church \n10:30am [a little later than our usual start time] \nAt Graham and Sarah’s home in Te Pahu.  email ofice@abidechurch.org.nz if you don’t know the address.
URL:https://abidechurch.org.nz/event/farm-church-te-pahu-1030am/
LOCATION:Graham & Sarah Corbans\, Graham & Sarah Corbans Place\, Te Pahu\, New Zealand
END:VEVENT
END:VCALENDAR