BEGIN:VCALENDAR
VERSION:2.0
PRODID:-//abide church - ECPv6.15.20//NONSGML v1.0//EN
CALSCALE:GREGORIAN
METHOD:PUBLISH
X-WR-CALNAME:abide church
X-ORIGINAL-URL:https://abidechurch.org.nz
X-WR-CALDESC:Events for abide church
REFRESH-INTERVAL;VALUE=DURATION:PT1H
X-Robots-Tag:noindex
X-PUBLISHED-TTL:PT1H
BEGIN:VTIMEZONE
TZID:Pacific/Auckland
BEGIN:STANDARD
TZOFFSETFROM:+1300
TZOFFSETTO:+1200
TZNAME:NZST
DTSTART:20190406T140000
END:STANDARD
BEGIN:DAYLIGHT
TZOFFSETFROM:+1200
TZOFFSETTO:+1300
TZNAME:NZDT
DTSTART:20190928T140000
END:DAYLIGHT
BEGIN:STANDARD
TZOFFSETFROM:+1300
TZOFFSETTO:+1200
TZNAME:NZST
DTSTART:20200404T140000
END:STANDARD
BEGIN:DAYLIGHT
TZOFFSETFROM:+1200
TZOFFSETTO:+1300
TZNAME:NZDT
DTSTART:20200926T140000
END:DAYLIGHT
BEGIN:STANDARD
TZOFFSETFROM:+1300
TZOFFSETTO:+1200
TZNAME:NZST
DTSTART:20210403T140000
END:STANDARD
BEGIN:DAYLIGHT
TZOFFSETFROM:+1200
TZOFFSETTO:+1300
TZNAME:NZDT
DTSTART:20210925T140000
END:DAYLIGHT
END:VTIMEZONE
BEGIN:VEVENT
DTSTART;TZID=Pacific/Auckland:20201011T100000
DTEND;TZID=Pacific/Auckland:20201011T120000
DTSTAMP:20260423T222057
CREATED:20201002T021736Z
LAST-MODIFIED:20201002T021736Z
UID:705-1602410400-1602417600@abidechurch.org.nz
SUMMARY:Sunday Morning Service (Bridge Club 10am) + Pot Luck Lunch
DESCRIPTION:This week we will be having a pot luck lunch after the service. Bring a plate and stick around after the service!
URL:https://abidechurch.org.nz/event/sunday-morning-service-bridge-club-10am-pot-luck-lunch/
LOCATION:Hamilton Bridge Club\, 20 Richmond Street\, Whitiora\, Hamilton\, New Zealand
END:VEVENT
BEGIN:VEVENT
DTSTART;TZID=Pacific/Auckland:20201004T100000
DTEND;TZID=Pacific/Auckland:20201004T120000
DTSTAMP:20260423T222057
CREATED:20200914T214913Z
LAST-MODIFIED:20201001T234401Z
UID:661-1601805600-1601812800@abidechurch.org.nz
SUMMARY:Sunday Morning Service (Bridge Club 10am)
DESCRIPTION:Our first Sunday morning service meeting at the Hamilton Bridge Club\, 10am.  This will be our new ‘normal’. Keep an eye on the events page for updates as we’ll still have the occasional farm church\, worship night and a few other changes to our normal routine
URL:https://abidechurch.org.nz/event/sunday-morning-service/
LOCATION:Hamilton Bridge Club\, 20 Richmond Street\, Whitiora\, Hamilton\, New Zealand
END:VEVENT
END:VCALENDAR