BEGIN:VCALENDAR
VERSION:2.0
PRODID:-//abide church - ECPv6.15.20//NONSGML v1.0//EN
CALSCALE:GREGORIAN
METHOD:PUBLISH
X-WR-CALNAME:abide church
X-ORIGINAL-URL:https://abidechurch.org.nz
X-WR-CALDESC:Events for abide church
REFRESH-INTERVAL;VALUE=DURATION:PT1H
X-Robots-Tag:noindex
X-PUBLISHED-TTL:PT1H
BEGIN:VTIMEZONE
TZID:Pacific/Auckland
BEGIN:STANDARD
TZOFFSETFROM:+1300
TZOFFSETTO:+1200
TZNAME:NZST
DTSTART:20200404T140000
END:STANDARD
BEGIN:DAYLIGHT
TZOFFSETFROM:+1200
TZOFFSETTO:+1300
TZNAME:NZDT
DTSTART:20200926T140000
END:DAYLIGHT
BEGIN:STANDARD
TZOFFSETFROM:+1300
TZOFFSETTO:+1200
TZNAME:NZST
DTSTART:20210403T140000
END:STANDARD
BEGIN:DAYLIGHT
TZOFFSETFROM:+1200
TZOFFSETTO:+1300
TZNAME:NZDT
DTSTART:20210925T140000
END:DAYLIGHT
BEGIN:STANDARD
TZOFFSETFROM:+1300
TZOFFSETTO:+1200
TZNAME:NZST
DTSTART:20220402T140000
END:STANDARD
BEGIN:DAYLIGHT
TZOFFSETFROM:+1200
TZOFFSETTO:+1300
TZNAME:NZDT
DTSTART:20220924T140000
END:DAYLIGHT
END:VTIMEZONE
BEGIN:VEVENT
DTSTART;TZID=Pacific/Auckland:20210919T100000
DTEND;TZID=Pacific/Auckland:20210919T120000
DTSTAMP:20260423T104454
CREATED:20210815T201006Z
LAST-MODIFIED:20210915T024923Z
UID:1044-1632045600-1632052800@abidechurch.org.nz
SUMMARY:Church Online (Zoom 10am)
DESCRIPTION:We will have a service at 10.00am\, via zoom\, like we did last Sunday.   We look forward to seeing you all.  You should receive the link via email\, please contact us if you did not get this.
URL:https://abidechurch.org.nz/event/fellowship-sunday-2/
END:VEVENT
BEGIN:VEVENT
DTSTART;TZID=Pacific/Auckland:20210912T103000
DTEND;TZID=Pacific/Auckland:20210912T120000
DTSTAMP:20260423T104454
CREATED:20210815T200917Z
LAST-MODIFIED:20210911T060242Z
UID:1042-1631442600-1631448000@abidechurch.org.nz
SUMMARY:Sunday Morning Online Service  (ZOOM 10:30am)
DESCRIPTION:As most of you will know\, we were very much looking forward to hosting Rev. Dave Clancey this Sunday. He was going to minister the word to us and lead us in some baptisms. However with the Covid restrictions\, his visit has been postponed and we have been invited instead to join his church – Trinity South Christchurch – for their Livestream online service at 10.30am. \n  \nThe link for their service is www.trinitysc.nz/this-Sunday. \n  \nThis will be a wonderful opportunity to join another sister church within the CCAANZ family\, and we would greatly encourage you to dial in.
URL:https://abidechurch.org.nz/event/sunday-morning-service-baptism-service-bridge-club-10am/
END:VEVENT
BEGIN:VEVENT
DTSTART;TZID=Pacific/Auckland:20210905T100000
DTEND;TZID=Pacific/Auckland:20210905T120000
DTSTAMP:20260423T104454
CREATED:20210815T200848Z
LAST-MODIFIED:20210815T200848Z
UID:1040-1630836000-1630843200@abidechurch.org.nz
SUMMARY:Sunday Morning Service (Bridge Club 10am)
DESCRIPTION:
URL:https://abidechurch.org.nz/event/sunday-morning-service-bridge-club-10am-31/
LOCATION:Hamilton Bridge Club\, 20 Richmond Street\, Whitiora\, Hamilton\, New Zealand
END:VEVENT
BEGIN:VEVENT
DTSTART;TZID=Pacific/Auckland:20210829T100000
DTEND;TZID=Pacific/Auckland:20210829T110000
DTSTAMP:20260423T104454
CREATED:20210815T200811Z
LAST-MODIFIED:20210825T014343Z
UID:1038-1630231200-1630234800@abidechurch.org.nz
SUMMARY:Church Online (Zoom 10am)
DESCRIPTION:We will have a service at 10.00am\, via zoom\, like we did last Sunday. This time Jane will be sharing her story with us.  We look forward to seeing you all.  You should receive the link via email\, please contact us if you did not get this.
URL:https://abidechurch.org.nz/event/sunday-evening-service-pizza-dinner-bridge-club-600pm/
END:VEVENT
BEGIN:VEVENT
DTSTART;TZID=Pacific/Auckland:20210822T110000
DTEND;TZID=Pacific/Auckland:20210822T130000
DTSTAMP:20260423T104454
CREATED:20210815T200532Z
LAST-MODIFIED:20210815T200556Z
UID:1035-1629630000-1629637200@abidechurch.org.nz
SUMMARY:Farm Church / Pot Luck Lunch (Te Pahu 11am)
DESCRIPTION:Come join us for a pot luck lunch and a casual gathering at Graham & Sarah Corban place in Te Pahu. (For exact address please email office@abidechurch.org.nz.) \nA great opportunity to invite friends and family to a less formal gathering.
URL:https://abidechurch.org.nz/event/farm-church-pot-luck-lunch-te-pahu-11am/
LOCATION:Graham & Sarah Corbans\, Graham & Sarah Corbans Place\, Te Pahu\, New Zealand
END:VEVENT
BEGIN:VEVENT
DTSTART;TZID=Pacific/Auckland:20210718T100000
DTEND;TZID=Pacific/Auckland:20210718T120000
DTSTAMP:20260423T104454
CREATED:20210521T013950Z
LAST-MODIFIED:20210521T013950Z
UID:996-1626602400-1626609600@abidechurch.org.nz
SUMMARY:Sunday Morning Service (Bridge Club 10am)
DESCRIPTION:
URL:https://abidechurch.org.nz/event/sunday-morning-service-bridge-club-10am-30/
LOCATION:Hamilton Bridge Club\, 20 Richmond Street\, Whitiora\, Hamilton\, New Zealand
END:VEVENT
BEGIN:VEVENT
DTSTART;TZID=Pacific/Auckland:20210711T100000
DTEND;TZID=Pacific/Auckland:20210711T120000
DTSTAMP:20260423T104454
CREATED:20210521T013930Z
LAST-MODIFIED:20210521T013930Z
UID:994-1625997600-1626004800@abidechurch.org.nz
SUMMARY:Sunday Morning Service (Bridge Club 10am)
DESCRIPTION:
URL:https://abidechurch.org.nz/event/sunday-morning-service-bridge-club-10am-29/
LOCATION:Hamilton Bridge Club\, 20 Richmond Street\, Whitiora\, Hamilton\, New Zealand
END:VEVENT
BEGIN:VEVENT
DTSTART;TZID=Pacific/Auckland:20210704T100000
DTEND;TZID=Pacific/Auckland:20210704T120000
DTSTAMP:20260423T104454
CREATED:20210521T013547Z
LAST-MODIFIED:20210521T013902Z
UID:991-1625392800-1625400000@abidechurch.org.nz
SUMMARY:Sunday Morning Service (Bridge Club 10am)
DESCRIPTION:Bishop Jay will be visiting us today!
URL:https://abidechurch.org.nz/event/sunday-morning-service-bridge-club-10am-28/
LOCATION:Hamilton Bridge Club\, 20 Richmond Street\, Whitiora\, Hamilton\, New Zealand
END:VEVENT
BEGIN:VEVENT
DTSTART;TZID=Pacific/Auckland:20210627T100000
DTEND;TZID=Pacific/Auckland:20210627T120000
DTSTAMP:20260423T104454
CREATED:20210521T013451Z
LAST-MODIFIED:20210521T013451Z
UID:989-1624788000-1624795200@abidechurch.org.nz
SUMMARY:Sunday Morning Service (Bridge Club 10am)
DESCRIPTION:
URL:https://abidechurch.org.nz/event/sunday-morning-service-bridge-club-10am-27/
LOCATION:Hamilton Bridge Club\, 20 Richmond Street\, Whitiora\, Hamilton\, New Zealand
END:VEVENT
BEGIN:VEVENT
DTSTART;TZID=Pacific/Auckland:20210620T100000
DTEND;TZID=Pacific/Auckland:20210620T120000
DTSTAMP:20260423T104454
CREATED:20210521T013431Z
LAST-MODIFIED:20210521T013431Z
UID:987-1624183200-1624190400@abidechurch.org.nz
SUMMARY:Fellowship Sunday
DESCRIPTION:Meeting together (off-site) in small groups for fellowship
URL:https://abidechurch.org.nz/event/fellowship-sunday/
END:VEVENT
BEGIN:VEVENT
DTSTART;TZID=Pacific/Auckland:20210613T100000
DTEND;TZID=Pacific/Auckland:20210613T120000
DTSTAMP:20260423T104454
CREATED:20210521T013349Z
LAST-MODIFIED:20210521T013349Z
UID:985-1623578400-1623585600@abidechurch.org.nz
SUMMARY:Sunday Morning Service (Bridge Club 10am)
DESCRIPTION:
URL:https://abidechurch.org.nz/event/sunday-morning-service-bridge-club-10am-26/
LOCATION:Hamilton Bridge Club\, 20 Richmond Street\, Whitiora\, Hamilton\, New Zealand
END:VEVENT
BEGIN:VEVENT
DTSTART;TZID=Pacific/Auckland:20210606T100000
DTEND;TZID=Pacific/Auckland:20210606T120000
DTSTAMP:20260423T104454
CREATED:20210521T013323Z
LAST-MODIFIED:20210521T013323Z
UID:983-1622973600-1622980800@abidechurch.org.nz
SUMMARY:Sunday Morning Service (Bridge Club 10am)
DESCRIPTION:
URL:https://abidechurch.org.nz/event/sunday-morning-service-bridge-club-10am-25/
LOCATION:Hamilton Bridge Club\, 20 Richmond Street\, Whitiora\, Hamilton\, New Zealand
END:VEVENT
BEGIN:VEVENT
DTSTART;TZID=Pacific/Auckland:20210530T100000
DTEND;TZID=Pacific/Auckland:20210530T120000
DTSTAMP:20260423T104454
CREATED:20210521T013257Z
LAST-MODIFIED:20210521T013257Z
UID:981-1622368800-1622376000@abidechurch.org.nz
SUMMARY:Sunday Morning Service (Bridge Club 10am)
DESCRIPTION:
URL:https://abidechurch.org.nz/event/sunday-morning-service-bridge-club-10am-24/
LOCATION:Hamilton Bridge Club\, 20 Richmond Street\, Whitiora\, Hamilton\, New Zealand
END:VEVENT
BEGIN:VEVENT
DTSTART;TZID=Pacific/Auckland:20210523T100000
DTEND;TZID=Pacific/Auckland:20210523T120000
DTSTAMP:20260423T104454
CREATED:20210521T013231Z
LAST-MODIFIED:20210521T013231Z
UID:979-1621764000-1621771200@abidechurch.org.nz
SUMMARY:Sunday Morning Service (Bridge Club 10am)
DESCRIPTION:
URL:https://abidechurch.org.nz/event/sunday-morning-service-bridge-club-10am-23/
LOCATION:Hamilton Bridge Club\, 20 Richmond Street\, Whitiora\, Hamilton\, New Zealand
END:VEVENT
BEGIN:VEVENT
DTSTART;TZID=Pacific/Auckland:20210516T100000
DTEND;TZID=Pacific/Auckland:20210516T120000
DTSTAMP:20260423T104454
CREATED:20210307T220244Z
LAST-MODIFIED:20210307T220254Z
UID:913-1621159200-1621166400@abidechurch.org.nz
SUMMARY:Sunday Morning Service (Bridge Club 10am)
DESCRIPTION:
URL:https://abidechurch.org.nz/event/sunday-morning-service-bridge-club-10am-22/
LOCATION:Hamilton Bridge Club\, 20 Richmond Street\, Whitiora\, Hamilton\, New Zealand
END:VEVENT
BEGIN:VEVENT
DTSTART;TZID=Pacific/Auckland:20210509T100000
DTEND;TZID=Pacific/Auckland:20210509T120000
DTSTAMP:20260423T104454
CREATED:20210307T220223Z
LAST-MODIFIED:20210307T220223Z
UID:911-1620554400-1620561600@abidechurch.org.nz
SUMMARY:Sunday Morning Service (Bridge Club 10am)
DESCRIPTION:
URL:https://abidechurch.org.nz/event/sunday-morning-service-bridge-club-10am-21/
LOCATION:Hamilton Bridge Club\, 20 Richmond Street\, Whitiora\, Hamilton\, New Zealand
END:VEVENT
BEGIN:VEVENT
DTSTART;TZID=Pacific/Auckland:20210502T100000
DTEND;TZID=Pacific/Auckland:20210502T120000
DTSTAMP:20260423T104454
CREATED:20210307T220202Z
LAST-MODIFIED:20210307T220202Z
UID:909-1619949600-1619956800@abidechurch.org.nz
SUMMARY:Sunday Morning Service (Bridge Club 10am)
DESCRIPTION:
URL:https://abidechurch.org.nz/event/sunday-morning-service-bridge-club-10am-20/
LOCATION:Hamilton Bridge Club\, 20 Richmond Street\, Whitiora\, Hamilton\, New Zealand
END:VEVENT
BEGIN:VEVENT
DTSTART;TZID=Pacific/Auckland:20210425T100000
DTEND;TZID=Pacific/Auckland:20210425T120000
DTSTAMP:20260423T104454
CREATED:20210307T220102Z
LAST-MODIFIED:20210307T220137Z
UID:906-1619344800-1619352000@abidechurch.org.nz
SUMMARY:Sunday Morning Service (Bridge Club 10am)
DESCRIPTION:
URL:https://abidechurch.org.nz/event/sunday-morning-service-bridge-club-10am-19/
LOCATION:Hamilton Bridge Club\, 20 Richmond Street\, Whitiora\, Hamilton\, New Zealand
END:VEVENT
BEGIN:VEVENT
DTSTART;TZID=Pacific/Auckland:20210411T100000
DTEND;TZID=Pacific/Auckland:20210411T120000
DTSTAMP:20260423T104454
CREATED:20210307T220042Z
LAST-MODIFIED:20210307T220042Z
UID:904-1618135200-1618142400@abidechurch.org.nz
SUMMARY:Sunday Morning Service (Bridge Club 10am)
DESCRIPTION:
URL:https://abidechurch.org.nz/event/sunday-morning-service-bridge-club-10am-18/
LOCATION:Hamilton Bridge Club\, 20 Richmond Street\, Whitiora\, Hamilton\, New Zealand
END:VEVENT
BEGIN:VEVENT
DTSTART;TZID=Pacific/Auckland:20210404T100000
DTEND;TZID=Pacific/Auckland:20210404T120000
DTSTAMP:20260423T104454
CREATED:20210307T220005Z
LAST-MODIFIED:20210307T220005Z
UID:902-1617530400-1617537600@abidechurch.org.nz
SUMMARY:Sunday Morning Service (Bridge Club 10am)
DESCRIPTION:
URL:https://abidechurch.org.nz/event/sunday-morning-service-bridge-club-10am-17/
LOCATION:Hamilton Bridge Club\, 20 Richmond Street\, Whitiora\, Hamilton\, New Zealand
END:VEVENT
BEGIN:VEVENT
DTSTART;TZID=Pacific/Auckland:20210402T140000
DTEND;TZID=Pacific/Auckland:20210402T150000
DTSTAMP:20260423T104454
CREATED:20210330T024322Z
LAST-MODIFIED:20210330T024322Z
UID:950-1617372000-1617375600@abidechurch.org.nz
SUMMARY:Good Friday Service
DESCRIPTION:
URL:https://abidechurch.org.nz/event/good-friday-service/
LOCATION:West Hamilton Community Church\, 27A Rifle Range Road\, Dinsdale\, Hamilton\, New Zealand
END:VEVENT
BEGIN:VEVENT
DTSTART;TZID=Pacific/Auckland:20210328T100000
DTEND;TZID=Pacific/Auckland:20210328T120000
DTSTAMP:20260423T104454
CREATED:20210307T215943Z
LAST-MODIFIED:20210307T215943Z
UID:900-1616925600-1616932800@abidechurch.org.nz
SUMMARY:Sunday Morning Service (Bridge Club 10am)
DESCRIPTION:
URL:https://abidechurch.org.nz/event/sunday-morning-service-bridge-club-10am-16/
LOCATION:Hamilton Bridge Club\, 20 Richmond Street\, Whitiora\, Hamilton\, New Zealand
END:VEVENT
BEGIN:VEVENT
DTSTART;TZID=Pacific/Auckland:20210321T100000
DTEND;TZID=Pacific/Auckland:20210321T120000
DTSTAMP:20260423T104454
CREATED:20210307T215912Z
LAST-MODIFIED:20210307T215912Z
UID:898-1616320800-1616328000@abidechurch.org.nz
SUMMARY:Sunday Morning Service (Bridge Club 10am)
DESCRIPTION:
URL:https://abidechurch.org.nz/event/sunday-morning-service-bridge-club-10am-15/
LOCATION:Hamilton Bridge Club\, 20 Richmond Street\, Whitiora\, Hamilton\, New Zealand
END:VEVENT
BEGIN:VEVENT
DTSTART;TZID=Pacific/Auckland:20210307T100000
DTEND;TZID=Pacific/Auckland:20210307T120000
DTSTAMP:20260423T104454
CREATED:20210103T061715Z
LAST-MODIFIED:20210103T061715Z
UID:867-1615111200-1615118400@abidechurch.org.nz
SUMMARY:Sunday Morning Service (Bridge Club 10am)
DESCRIPTION:
URL:https://abidechurch.org.nz/event/sunday-morning-service-bridge-club-10am-14/
LOCATION:Hamilton Bridge Club\, 20 Richmond Street\, Whitiora\, Hamilton\, New Zealand
END:VEVENT
BEGIN:VEVENT
DTSTART;TZID=Pacific/Auckland:20210228T100000
DTEND;TZID=Pacific/Auckland:20210228T120000
DTSTAMP:20260423T104454
CREATED:20210103T061612Z
LAST-MODIFIED:20210103T061612Z
UID:865-1614506400-1614513600@abidechurch.org.nz
SUMMARY:Sunday Morning Service (Bridge Club 10am)
DESCRIPTION:
URL:https://abidechurch.org.nz/event/sunday-morning-service-bridge-club-10am-13/
LOCATION:Hamilton Bridge Club\, 20 Richmond Street\, Whitiora\, Hamilton\, New Zealand
END:VEVENT
BEGIN:VEVENT
DTSTART;TZID=Pacific/Auckland:20210221T100000
DTEND;TZID=Pacific/Auckland:20210221T120000
DTSTAMP:20260423T104454
CREATED:20210103T061528Z
LAST-MODIFIED:20210103T061528Z
UID:863-1613901600-1613908800@abidechurch.org.nz
SUMMARY:Sunday Morning Service (Bridge Club 10am)
DESCRIPTION:
URL:https://abidechurch.org.nz/event/sunday-morning-service-bridge-club-10am-12/
LOCATION:Hamilton Bridge Club\, 20 Richmond Street\, Whitiora\, Hamilton\, New Zealand
END:VEVENT
BEGIN:VEVENT
DTSTART;TZID=Pacific/Auckland:20210214T100000
DTEND;TZID=Pacific/Auckland:20210214T120000
DTSTAMP:20260423T104454
CREATED:20210103T061450Z
LAST-MODIFIED:20210103T061504Z
UID:861-1613296800-1613304000@abidechurch.org.nz
SUMMARY:Sunday Morning Service (Bridge Club 10am)
DESCRIPTION:
URL:https://abidechurch.org.nz/event/sunday-morning-service-bridge-club-10am-11/
LOCATION:Hamilton Bridge Club\, 20 Richmond Street\, Whitiora\, Hamilton\, New Zealand
END:VEVENT
BEGIN:VEVENT
DTSTART;TZID=Pacific/Auckland:20210207T100000
DTEND;TZID=Pacific/Auckland:20210207T120000
DTSTAMP:20260423T104454
CREATED:20210103T061354Z
LAST-MODIFIED:20210103T061354Z
UID:857-1612692000-1612699200@abidechurch.org.nz
SUMMARY:Sunday Morning Service (Bridge Club 10am)
DESCRIPTION:
URL:https://abidechurch.org.nz/event/sunday-morning-service-bridge-club-10am-9/
LOCATION:Hamilton Bridge Club\, 20 Richmond Street\, Whitiora\, Hamilton\, New Zealand
END:VEVENT
BEGIN:VEVENT
DTSTART;TZID=Pacific/Auckland:20210131T110000
DTEND;TZID=Pacific/Auckland:20210131T140000
DTSTAMP:20260423T104454
CREATED:20210103T061301Z
LAST-MODIFIED:20210126T041640Z
UID:855-1612090800-1612101600@abidechurch.org.nz
SUMMARY:Pot Luck Lunch (Te Pahu 12pm)
DESCRIPTION:Come join us for a pot luck lunch and a casual gathering at Graham & Sarah Corban place in Te Pahu. (For exact address please email office@abidechurch.org.nz.) \nA great opportunity to invite friends and family to a less formal gathering.
URL:https://abidechurch.org.nz/event/farm-church-te-pahu-11am/
LOCATION:Graham & Sarah Corbans\, Graham & Sarah Corbans Place\, Te Pahu\, New Zealand
END:VEVENT
BEGIN:VEVENT
DTSTART;TZID=Pacific/Auckland:20210103T100000
DTEND;TZID=Pacific/Auckland:20210103T120000
DTSTAMP:20260423T104454
CREATED:20210103T061422Z
LAST-MODIFIED:20210103T061422Z
UID:859-1609668000-1609675200@abidechurch.org.nz
SUMMARY:Sunday Morning Service (Bridge Club 10am)
DESCRIPTION:
URL:https://abidechurch.org.nz/event/sunday-morning-service-bridge-club-10am-10/
LOCATION:Hamilton Bridge Club\, 20 Richmond Street\, Whitiora\, Hamilton\, New Zealand
END:VEVENT
END:VCALENDAR